BEGIN:VCALENDAR
VERSION:2.0
PRODID:-//Vänsterpartiet Kronoberg - ECPv6.15.17.1//NONSGML v1.0//EN
CALSCALE:GREGORIAN
METHOD:PUBLISH
X-WR-CALNAME:Vänsterpartiet Kronoberg
X-ORIGINAL-URL:https://kronoberg.vansterpartiet.se
X-WR-CALDESC:Händelser för Vänsterpartiet Kronoberg
REFRESH-INTERVAL;VALUE=DURATION:PT1H
X-Robots-Tag:noindex
X-PUBLISHED-TTL:PT1H
BEGIN:VTIMEZONE
TZID:Europe/Stockholm
BEGIN:DAYLIGHT
TZOFFSETFROM:+0100
TZOFFSETTO:+0200
TZNAME:CEST
DTSTART:20240331T010000
END:DAYLIGHT
BEGIN:STANDARD
TZOFFSETFROM:+0200
TZOFFSETTO:+0100
TZNAME:CET
DTSTART:20241027T010000
END:STANDARD
BEGIN:DAYLIGHT
TZOFFSETFROM:+0100
TZOFFSETTO:+0200
TZNAME:CEST
DTSTART:20250330T010000
END:DAYLIGHT
BEGIN:STANDARD
TZOFFSETFROM:+0200
TZOFFSETTO:+0100
TZNAME:CET
DTSTART:20251026T010000
END:STANDARD
BEGIN:DAYLIGHT
TZOFFSETFROM:+0100
TZOFFSETTO:+0200
TZNAME:CEST
DTSTART:20260329T010000
END:DAYLIGHT
BEGIN:STANDARD
TZOFFSETFROM:+0200
TZOFFSETTO:+0100
TZNAME:CET
DTSTART:20261025T010000
END:STANDARD
END:VTIMEZONE
BEGIN:VEVENT
DTSTART;TZID=Europe/Stockholm:20250605T090000
DTEND;TZID=Europe/Stockholm:20250605T120000
DTSTAMP:20260421T161147
CREATED:20241212T082954Z
LAST-MODIFIED:20241212T082954Z
UID:4725-1749114000-1749124800@kronoberg.vansterpartiet.se
SUMMARY:Regiongruppsmöte
DESCRIPTION:Våra regionpolitiker träffas för att diskutera en mer jämlik och jämställd vård\, bra och billig kollektivtrafik och andra aktuella frågor. Kontakta gruppledare Kerstin Wiréhn (kerstin.wirehn@kronoberg.se) om du vill delta.
URL:https://kronoberg.vansterpartiet.se/event/regiongruppsmote-8/
END:VEVENT
BEGIN:VEVENT
DTSTART;TZID=Europe/Stockholm:20250614T140000
DTEND;TZID=Europe/Stockholm:20250614T160000
DTSTAMP:20260421T161147
CREATED:20250528T142056Z
LAST-MODIFIED:20250528T142056Z
UID:4919-1749909600-1749916800@kronoberg.vansterpartiet.se
SUMMARY:Nyfiken på Vänsterpartiet - öppet möte i Timsfors
DESCRIPTION:
URL:https://kronoberg.vansterpartiet.se/event/nyfiken-pa-vansterpartiet-oppet-mote-i-timsfors/
LOCATION:Timsfors Folkets hus\, Prästtorpsvägen 13\, Timsfors
END:VEVENT
BEGIN:VEVENT
DTSTART;TZID=Europe/Stockholm:20250626T173000
DTEND;TZID=Europe/Stockholm:20250626T200000
DTSTAMP:20260421T161147
CREATED:20250414T134412Z
LAST-MODIFIED:20250414T134412Z
UID:4853-1750959000-1750968000@kronoberg.vansterpartiet.se
SUMMARY:Distriktsstyrelsemöte
DESCRIPTION:DISTRIKTSSTYRELSEMÖTE \nVi träffas i möteslokalen på Vattentorget. \nVälkommen! \nAnmäl deltagande till: kronoberg@vansterpartiet.se
URL:https://kronoberg.vansterpartiet.se/event/distriktsstyrelsemote-16/
LOCATION:Vänsterpartiet Kronoberg\, Vattentorget 1\, plan 2\, Växjö
END:VEVENT
END:VCALENDAR