BEGIN:VCALENDAR
VERSION:2.0
PRODID:-//Vänsterpartiet Kronoberg - ECPv6.15.17.1//NONSGML v1.0//EN
CALSCALE:GREGORIAN
METHOD:PUBLISH
X-WR-CALNAME:Vänsterpartiet Kronoberg
X-ORIGINAL-URL:https://kronoberg.vansterpartiet.se
X-WR-CALDESC:Händelser för Vänsterpartiet Kronoberg
REFRESH-INTERVAL;VALUE=DURATION:PT1H
X-Robots-Tag:noindex
X-PUBLISHED-TTL:PT1H
BEGIN:VTIMEZONE
TZID:Europe/Stockholm
BEGIN:DAYLIGHT
TZOFFSETFROM:+0100
TZOFFSETTO:+0200
TZNAME:CEST
DTSTART:20230326T010000
END:DAYLIGHT
BEGIN:STANDARD
TZOFFSETFROM:+0200
TZOFFSETTO:+0100
TZNAME:CET
DTSTART:20231029T010000
END:STANDARD
BEGIN:DAYLIGHT
TZOFFSETFROM:+0100
TZOFFSETTO:+0200
TZNAME:CEST
DTSTART:20240331T010000
END:DAYLIGHT
BEGIN:STANDARD
TZOFFSETFROM:+0200
TZOFFSETTO:+0100
TZNAME:CET
DTSTART:20241027T010000
END:STANDARD
BEGIN:DAYLIGHT
TZOFFSETFROM:+0100
TZOFFSETTO:+0200
TZNAME:CEST
DTSTART:20250330T010000
END:DAYLIGHT
BEGIN:STANDARD
TZOFFSETFROM:+0200
TZOFFSETTO:+0100
TZNAME:CET
DTSTART:20251026T010000
END:STANDARD
END:VTIMEZONE
BEGIN:VEVENT
DTSTART;TZID=Europe/Stockholm:20240815T173000
DTEND;TZID=Europe/Stockholm:20240815T200000
DTSTAMP:20260422T043123
CREATED:20240701T192907Z
LAST-MODIFIED:20240701T192907Z
UID:4369-1723743000-1723752000@kronoberg.vansterpartiet.se
SUMMARY:Distriktsstyrelsemöte
DESCRIPTION:DISTRIKTSSTYRELSEMÖTE \nVi träffas i möteslokalen på Vattentorget. \nVälkommen! \nAnmäl deltagande till: kronoberg@vansterpartiet.se
URL:https://kronoberg.vansterpartiet.se/event/distriktsstyrelsemote-13/
END:VEVENT
BEGIN:VEVENT
DTSTART;TZID=Europe/Stockholm:20240826T173000
DTEND;TZID=Europe/Stockholm:20240826T200000
DTSTAMP:20260422T043123
CREATED:20240822T121521Z
LAST-MODIFIED:20240822T121521Z
UID:4426-1724693400-1724702400@kronoberg.vansterpartiet.se
SUMMARY:Vernissage på Bäckgatan - Bilder från Tecknarupproret
DESCRIPTION:Vernissage på Bäckgatan 14 – V Växjös lokaler. \nLäs mer på fb: https://www.facebook.com/events/1099843165152426
URL:https://kronoberg.vansterpartiet.se/event/vernissage-pa-backgatan-bilder-fran-tecknarupproret/
END:VEVENT
BEGIN:VEVENT
DTSTART;TZID=Europe/Stockholm:20240828T170000
DTEND;TZID=Europe/Stockholm:20240828T180000
DTSTAMP:20260422T043123
CREATED:20240822T122326Z
LAST-MODIFIED:20240822T122326Z
UID:4428-1724864400-1724868000@kronoberg.vansterpartiet.se
SUMMARY:Fredsmarsch - Ge freden en chans!
DESCRIPTION:
URL:https://kronoberg.vansterpartiet.se/event/fredsmarsch-ge-freden-en-chans/
END:VEVENT
END:VCALENDAR