BEGIN:VCALENDAR
VERSION:2.0
PRODID:-//Vänsterpartiet Kronoberg - ECPv6.15.17.1//NONSGML v1.0//EN
CALSCALE:GREGORIAN
METHOD:PUBLISH
X-ORIGINAL-URL:https://kronoberg.vansterpartiet.se
X-WR-CALDESC:Händelser för Vänsterpartiet Kronoberg
REFRESH-INTERVAL;VALUE=DURATION:PT1H
X-Robots-Tag:noindex
X-PUBLISHED-TTL:PT1H
BEGIN:VTIMEZONE
TZID:Europe/Stockholm
BEGIN:DAYLIGHT
TZOFFSETFROM:+0100
TZOFFSETTO:+0200
TZNAME:CEST
DTSTART:20230326T010000
END:DAYLIGHT
BEGIN:STANDARD
TZOFFSETFROM:+0200
TZOFFSETTO:+0100
TZNAME:CET
DTSTART:20231029T010000
END:STANDARD
BEGIN:DAYLIGHT
TZOFFSETFROM:+0100
TZOFFSETTO:+0200
TZNAME:CEST
DTSTART:20240331T010000
END:DAYLIGHT
BEGIN:STANDARD
TZOFFSETFROM:+0200
TZOFFSETTO:+0100
TZNAME:CET
DTSTART:20241027T010000
END:STANDARD
BEGIN:DAYLIGHT
TZOFFSETFROM:+0100
TZOFFSETTO:+0200
TZNAME:CEST
DTSTART:20250330T010000
END:DAYLIGHT
BEGIN:STANDARD
TZOFFSETFROM:+0200
TZOFFSETTO:+0100
TZNAME:CET
DTSTART:20251026T010000
END:STANDARD
END:VTIMEZONE
BEGIN:VEVENT
DTSTART;TZID=Europe/Stockholm:20240501T130000
DTEND;TZID=Europe/Stockholm:20240501T150000
DTSTAMP:20260422T080235
CREATED:20240323T102830Z
LAST-MODIFIED:20240425T123230Z
UID:4210-1714568400-1714575600@kronoberg.vansterpartiet.se
SUMMARY:1 maj-firande
DESCRIPTION:Fira 1 maj i Växjö med Vänsterpartiet\n  \nSamling kl. 13.00 vid Speakers’ Corner\nAppell-tal och fördelning av plakat \nDärefter sedvanligt tåg genom Växjö centrum \nAvslutning vid Vattentorget\nTal på IOGT av Paulina Sokolow som är\nkulturredaktör på tidningen Flamman \nFri entré. Vi bjuder på fika! \nLänk: 1 maj med Vänsterpartiet Växjö | Facebook \n 
URL:https://kronoberg.vansterpartiet.se/event/1-maj-firande/
END:VEVENT
BEGIN:VEVENT
DTSTART;TZID=Europe/Stockholm:20240501T170000
DTEND;TZID=Europe/Stockholm:20240501T190000
DTSTAMP:20260422T080235
CREATED:20240425T123549Z
LAST-MODIFIED:20240425T123549Z
UID:4262-1714582800-1714590000@kronoberg.vansterpartiet.se
SUMMARY:1 maj-firande i Ljungby
DESCRIPTION:Fira 1 maj i Ljungby!
URL:https://kronoberg.vansterpartiet.se/event/1-maj-firande-i-ljungby/
END:VEVENT
BEGIN:VEVENT
DTSTART;TZID=Europe/Stockholm:20240502T090000
DTEND;TZID=Europe/Stockholm:20240502T120000
DTSTAMP:20260422T080235
CREATED:20231102T072408Z
LAST-MODIFIED:20231102T072408Z
UID:4028-1714640400-1714651200@kronoberg.vansterpartiet.se
SUMMARY:Regiongruppsmöte 2/5
DESCRIPTION:Våra regionpolitiker träffas för att diskutera en mer jämlik och jämställd vård\, bra och billig kollektivtrafik och andra aktuella frågor. Kontakta gruppledare Kerstin Wiréhn (kerstin.wirehn@kronoberg.se) om du vill delta.
URL:https://kronoberg.vansterpartiet.se/event/regiongruppsmote-2-5/
END:VEVENT
BEGIN:VEVENT
DTSTART;VALUE=DATE:20240506
DTEND;VALUE=DATE:20240507
DTSTAMP:20260422T080235
CREATED:20240323T103602Z
LAST-MODIFIED:20240323T105905Z
UID:4215-1714953600-1715039999@kronoberg.vansterpartiet.se
SUMMARY:EUP-valrörelsen start
DESCRIPTION:EUP-rörelsen drar igång\nValrörelsen drar igång med\nRöda Cykeln och öppet på Bäckgatan 14 i Växjö \nVill du vara med och bemanna\, knacka dörr eller sätta upp affischer?\nHör av dig till vaxjo@vansterpartiet.se \nVälkommen!
URL:https://kronoberg.vansterpartiet.se/event/eup-valrorelsen-start/
END:VEVENT
BEGIN:VEVENT
DTSTART;VALUE=DATE:20240506
DTEND;VALUE=DATE:20240513
DTSTAMP:20260422T080235
CREATED:20240323T103958Z
LAST-MODIFIED:20240323T103958Z
UID:4217-1714953600-1715558399@kronoberg.vansterpartiet.se
SUMMARY:Pridevecka i Växjö
DESCRIPTION:Prideveckan i Växjö mellan 6 och 12 maj.\n  \n11 maj är det Pride-parad och vi kommer att gå med i tåget.
URL:https://kronoberg.vansterpartiet.se/event/pridevecka-i-vaxjo/
END:VEVENT
BEGIN:VEVENT
DTSTART;VALUE=DATE:20240508
DTEND;VALUE=DATE:20240513
DTSTAMP:20260422T080235
CREATED:20240323T170829Z
LAST-MODIFIED:20240323T170829Z
UID:4226-1715126400-1715558399@kronoberg.vansterpartiet.se
SUMMARY:Kongress 2024
DESCRIPTION:Kongress 2024 i Jönköping\nLänk till dokument:\nVänsterpartiets kongress 2024 – Vänsterpartiet | Din trygghet är politikens ansvar (vansterpartiet.se)
URL:https://kronoberg.vansterpartiet.se/event/kongress-2024/
END:VEVENT
BEGIN:VEVENT
DTSTART;TZID=Europe/Stockholm:20240511T140000
DTEND;TZID=Europe/Stockholm:20240511T150000
DTSTAMP:20260422T080235
CREATED:20240323T104411Z
LAST-MODIFIED:20240323T104411Z
UID:4220-1715436000-1715439600@kronoberg.vansterpartiet.se
SUMMARY:Prideparad i Växjö
DESCRIPTION:Prideparaden i Växjö\n  \nVi går med i tåget.\nVi kommer att samlas före avtåget\, tid kommer senare. \nLänk: Paraden – Växjö Pride (vaxjopride.se)
URL:https://kronoberg.vansterpartiet.se/event/prideparad-i-vaxjo/
END:VEVENT
BEGIN:VEVENT
DTSTART;TZID=Europe/Stockholm:20240513T160000
DTEND;TZID=Europe/Stockholm:20240513T170000
DTSTAMP:20260422T080235
CREATED:20240508T152304Z
LAST-MODIFIED:20240508T152304Z
UID:4289-1715616000-1715619600@kronoberg.vansterpartiet.se
SUMMARY:Jonas Sjöstedt på LNU
DESCRIPTION:Länk till facebook \n 
URL:https://kronoberg.vansterpartiet.se/event/jonas-sjostedt-pa-lnu/
END:VEVENT
BEGIN:VEVENT
DTSTART;TZID=Europe/Stockholm:20240513T190000
DTEND;TZID=Europe/Stockholm:20240513T210000
DTSTAMP:20260422T080235
CREATED:20240508T152640Z
LAST-MODIFIED:20240508T152640Z
UID:4292-1715626800-1715634000@kronoberg.vansterpartiet.se
SUMMARY:Talkshow med Jonas Sjöstedt
DESCRIPTION:Länk till facebook
URL:https://kronoberg.vansterpartiet.se/event/talkshow-med-jonas-sjostedt/
END:VEVENT
BEGIN:VEVENT
DTSTART;TZID=Europe/Stockholm:20240525T090000
DTEND;TZID=Europe/Stockholm:20240525T180000
DTSTAMP:20260422T080235
CREATED:20240520T073302Z
LAST-MODIFIED:20240520T101131Z
UID:4312-1716627600-1716660000@kronoberg.vansterpartiet.se
SUMMARY:Markaryds marknad
DESCRIPTION:Det är marknad i Markaryd runt Kungsgatan. Den håller på mellan kl. 9.00 och 18.00\, och Vänsterpartiet Markaryd finns på plats åtminstone mellan kl. 11.00 och 16.00. \nVälkommen att titta förbi! \nhttps://www.markarydsif.se/kalender/?ID=466628&AID=21650990
URL:https://kronoberg.vansterpartiet.se/event/markaryds-marknad/
END:VEVENT
BEGIN:VEVENT
DTSTART;TZID=Europe/Stockholm:20240525T100000
DTEND;TZID=Europe/Stockholm:20240525T150000
DTSTAMP:20260422T080235
CREATED:20240425T122729Z
LAST-MODIFIED:20240425T122729Z
UID:4258-1716631200-1716649200@kronoberg.vansterpartiet.se
SUMMARY:Familjedag i Alvesta
DESCRIPTION:Vänsterpartiet i Alvesta deltar vid Familjedagen i Alvesta. \nLänk till fb-book:  Familjedag | Facebook
URL:https://kronoberg.vansterpartiet.se/event/familjedag-i-alvesta/
END:VEVENT
BEGIN:VEVENT
DTSTART;TZID=Europe/Stockholm:20240527T180000
DTEND;TZID=Europe/Stockholm:20240527T200000
DTSTAMP:20260422T080235
CREATED:20240323T104925Z
LAST-MODIFIED:20240323T104925Z
UID:4223-1716832800-1716840000@kronoberg.vansterpartiet.se
SUMMARY:Kommunala Gruppen Växjö
DESCRIPTION:Kommunala gruppen Växjö\nmöte på Bäckgatan 14\n  \nKommunala gruppens möten är öppna för medlemmar. \nAnmäl till bjorn.kleinhenz@vaxjo.se om du vill delta. \nVälkommen!
URL:https://kronoberg.vansterpartiet.se/event/kommunala-gruppen-vaxjo-2/
END:VEVENT
BEGIN:VEVENT
DTSTART;TZID=Europe/Stockholm:20240530T173000
DTEND;TZID=Europe/Stockholm:20240530T200000
DTSTAMP:20260422T080235
CREATED:20240411T133538Z
LAST-MODIFIED:20240411T133538Z
UID:4247-1717090200-1717099200@kronoberg.vansterpartiet.se
SUMMARY:Distriktsstyrelsemöte
DESCRIPTION:DISTRIKTSSTYRELSEMÖTE \nVi träffas i möteslokalen på Vattentorget. \nVälkommen! \nAnmäl deltagande till: kronoberg@vansterpartiet.se
URL:https://kronoberg.vansterpartiet.se/event/distriktsstyrelsemote-4/
END:VEVENT
END:VCALENDAR