BEGIN:VCALENDAR
VERSION:2.0
PRODID:-//Vänsterpartiet Kronoberg - ECPv6.15.17.1//NONSGML v1.0//EN
CALSCALE:GREGORIAN
METHOD:PUBLISH
X-WR-CALNAME:Vänsterpartiet Kronoberg
X-ORIGINAL-URL:https://kronoberg.vansterpartiet.se
X-WR-CALDESC:Händelser för Vänsterpartiet Kronoberg
REFRESH-INTERVAL;VALUE=DURATION:PT1H
X-Robots-Tag:noindex
X-PUBLISHED-TTL:PT1H
BEGIN:VTIMEZONE
TZID:Europe/Stockholm
BEGIN:DAYLIGHT
TZOFFSETFROM:+0100
TZOFFSETTO:+0200
TZNAME:CEST
DTSTART:20230326T010000
END:DAYLIGHT
BEGIN:STANDARD
TZOFFSETFROM:+0200
TZOFFSETTO:+0100
TZNAME:CET
DTSTART:20231029T010000
END:STANDARD
BEGIN:DAYLIGHT
TZOFFSETFROM:+0100
TZOFFSETTO:+0200
TZNAME:CEST
DTSTART:20240331T010000
END:DAYLIGHT
BEGIN:STANDARD
TZOFFSETFROM:+0200
TZOFFSETTO:+0100
TZNAME:CET
DTSTART:20241027T010000
END:STANDARD
BEGIN:DAYLIGHT
TZOFFSETFROM:+0100
TZOFFSETTO:+0200
TZNAME:CEST
DTSTART:20250330T010000
END:DAYLIGHT
BEGIN:STANDARD
TZOFFSETFROM:+0200
TZOFFSETTO:+0100
TZNAME:CET
DTSTART:20251026T010000
END:STANDARD
END:VTIMEZONE
BEGIN:VEVENT
DTSTART;TZID=Europe/Stockholm:20240404T173000
DTEND;TZID=Europe/Stockholm:20240404T193000
DTSTAMP:20260422T090946
CREATED:20240323T090840Z
LAST-MODIFIED:20240323T090840Z
UID:4206-1712251800-1712259000@kronoberg.vansterpartiet.se
SUMMARY:Filmkväll i Alvesta
DESCRIPTION:Inbjudan till filmkväll\nPartiföreningen Alvesta bjuder in till visning av Jan Schermans dokumentär\n’Make democracy great again’ \nPlats: Alvesta Folkets Hus\, Allbogatan 17\, Alvesta \nTid: torsdagen den 4:e april kl. 17:30-19:30 (ca). \nÖppet för fika 17:30\, filmen startar 18:00 och är 90 minuter lång. \nInträdet är gratis\, fika kostar 50:- (det finns även möjlighet att köpa popcorn) och vill man stödja Folkets Hus kan även passa på att köpa andelar (50:- styck). \nAnmäl gärna i förväg om ni kommer så att vi kan planera fikamängd därefter.\nAnmälan görs till alvesta@vansterpartiet.se\nVälkomna! \n 
URL:https://kronoberg.vansterpartiet.se/event/filmkvall-i-alvesta/
END:VEVENT
BEGIN:VEVENT
DTSTART;TZID=Europe/Stockholm:20240408T180000
DTEND;TZID=Europe/Stockholm:20240408T200000
DTSTAMP:20260422T090946
CREATED:20240323T101632Z
LAST-MODIFIED:20240323T104745Z
UID:4208-1712599200-1712606400@kronoberg.vansterpartiet.se
SUMMARY:Kommunala Gruppen Växjö
DESCRIPTION:Kommunala gruppen Växjö\nmöte på Bäckgatan 14\n  \nKommunala gruppens möten är öppna för medlemmar. \nAnmäl till bjorn.kleinhenz@vaxjo.se om du vill delta. \nVälkommen!
URL:https://kronoberg.vansterpartiet.se/event/kommunala-gruppen-vaxjo/
END:VEVENT
BEGIN:VEVENT
DTSTART;TZID=Europe/Stockholm:20240418T090000
DTEND;TZID=Europe/Stockholm:20240418T120000
DTSTAMP:20260422T090946
CREATED:20231102T072332Z
LAST-MODIFIED:20240228T101245Z
UID:4026-1713430800-1713441600@kronoberg.vansterpartiet.se
SUMMARY:Regiongruppsmöte 18/4
DESCRIPTION:Våra regionpolitiker träffas för att diskutera en mer jämlik och jämställd vård\, bra och billig kollektivtrafik och andra aktuella frågor. Kontakta gruppledare Kerstin Wiréhn (kerstin.wirehn@kronoberg.se) om du vill delta.
URL:https://kronoberg.vansterpartiet.se/event/regiongruppsmote-17-4/
END:VEVENT
BEGIN:VEVENT
DTSTART;TZID=Europe/Stockholm:20240422T173000
DTEND;TZID=Europe/Stockholm:20240422T200000
DTSTAMP:20260422T090946
CREATED:20240328T101343Z
LAST-MODIFIED:20240328T101423Z
UID:4240-1713807000-1713816000@kronoberg.vansterpartiet.se
SUMMARY:Träffa våra kongressombud
DESCRIPTION:Vänsterpartiet Kronoberg\n\n\n\n\n\n\n\n\n\n\n\n\n\n\n\n\n\n\n\n\n\n\n\n\n\n\n\n\n\n\n\n\n\n\n\n\n\n\n\n\n\n\n\n\n\n\n\nKom och träffa våra kongressombud!\n\n\n\n\n\n\n\nKom och träffa Kronobergs kongressombud måndag 22 april. Berätta vad du tycker är viktigt\, ställ frågor och hör vad våra kongressombud har att säga.Vi håller till på Bäckgatan 14 i Växjö – eller titta på vår livesändning. \n17.30 slås dörrarna upp. Fika och mingel.\n18.00 börjar träffen\, som alltså livesänds och även spelas in. \nMedlemmar och sympatisörer hälsas välkomna!\n\n\n\n\n\n\n\n\n\n\n\n\n\n\n\n\n\n\n\n\n\n\n\n\n\n\n\n\n\n\n\n\n\n\n\n\n\n\nValkrets 1\nBraås-Rottne och Växjö\n\nValkrets 2\n Alvesta\, Lessebo\, Ljungby\, Markaryd\, Tingsryd\, Uppvidinge och Älmhult\n\n\n\n\n\n\n\n\n\n\n\n\n\n\n\n\n\n\n\n\n\n\n\n\n\n\n\n\n\n\nMaria Garmer\nBraås-RottneOrdinarie valkrets 1\n\n\n\n\n\n\n\n\n\n\n\n\n\n\n\nBjörn Kleinhenz\nBraås-RottneOrdinarie valkrets 1\n\n\n\n\n\n\n\n\n\n\n\n\n\n\n\nFrida Sandstedt\nBraås-RottneErsättare valkrets 1\n\n\n\n\n\n\n\n\n\n\n\n\n\n\n\n\n\n\n\n\n\n\n\n\n\n\n\n\n\nLinnéa Naess\nAlvestaOrdinarie valkrets 2\n\n\n\n\n\n\n\n\n\n\n\n\n\n\n\nCatharina Nord\nLjungbyOrdinarie valkrets 2\n\n\n\n\n\n\n\n\n\n\n\n\n\n\n\n\nKongress 2024
URL:https://kronoberg.vansterpartiet.se/event/traffa-vara-kongressombud/
END:VEVENT
BEGIN:VEVENT
DTSTART;TZID=Europe/Stockholm:20240424T173000
DTEND;TZID=Europe/Stockholm:20240424T200000
DTSTAMP:20260422T090946
CREATED:20240411T132548Z
LAST-MODIFIED:20240411T132548Z
UID:4243-1713979800-1713988800@kronoberg.vansterpartiet.se
SUMMARY:Distriktstyrelsemöte
DESCRIPTION:DISTRIKTSSTYRELSEMÖTE \nVi träffas i möteslokalen på Vattentorget. \nVälkommen! \nAnmäl deltagande till: kronoberg@vansterpartiet.se
URL:https://kronoberg.vansterpartiet.se/event/distriktstyrelsemote/
END:VEVENT
END:VCALENDAR