BEGIN:VCALENDAR
VERSION:2.0
PRODID:-//Vänsterpartiet Kronoberg - ECPv6.15.17.1//NONSGML v1.0//EN
CALSCALE:GREGORIAN
METHOD:PUBLISH
X-ORIGINAL-URL:https://kronoberg.vansterpartiet.se
X-WR-CALDESC:Händelser för Vänsterpartiet Kronoberg
REFRESH-INTERVAL;VALUE=DURATION:PT1H
X-Robots-Tag:noindex
X-PUBLISHED-TTL:PT1H
BEGIN:VTIMEZONE
TZID:Europe/Stockholm
BEGIN:DAYLIGHT
TZOFFSETFROM:+0100
TZOFFSETTO:+0200
TZNAME:CEST
DTSTART:20220327T010000
END:DAYLIGHT
BEGIN:STANDARD
TZOFFSETFROM:+0200
TZOFFSETTO:+0100
TZNAME:CET
DTSTART:20221030T010000
END:STANDARD
BEGIN:DAYLIGHT
TZOFFSETFROM:+0100
TZOFFSETTO:+0200
TZNAME:CEST
DTSTART:20230326T010000
END:DAYLIGHT
BEGIN:STANDARD
TZOFFSETFROM:+0200
TZOFFSETTO:+0100
TZNAME:CET
DTSTART:20231029T010000
END:STANDARD
BEGIN:DAYLIGHT
TZOFFSETFROM:+0100
TZOFFSETTO:+0200
TZNAME:CEST
DTSTART:20240331T010000
END:DAYLIGHT
BEGIN:STANDARD
TZOFFSETFROM:+0200
TZOFFSETTO:+0100
TZNAME:CET
DTSTART:20241027T010000
END:STANDARD
END:VTIMEZONE
BEGIN:VEVENT
DTSTART;TZID=Europe/Stockholm:20230907T090000
DTEND;TZID=Europe/Stockholm:20230907T120000
DTSTAMP:20260422T174741
CREATED:20230823T115026Z
LAST-MODIFIED:20230823T115606Z
UID:3823-1694077200-1694088000@kronoberg.vansterpartiet.se
SUMMARY:Regiongruppsmöte 7/9
DESCRIPTION:Våra regionpolitiker träffas för att diskutera en mer jämlik och jämställd vård\, bra och billig kollektivtrafik och andra aktuella frågor. Kontakta gruppledare Kerstin Wiréhn (kerstin.wirehn@kronoberg.se) om du vill delta.
URL:https://kronoberg.vansterpartiet.se/event/regiongruppsmote/
LOCATION:Centrallasarattet i Växjö
END:VEVENT
BEGIN:VEVENT
DTSTART;TZID=Europe/Stockholm:20230921T180000
DTEND;TZID=Europe/Stockholm:20230921T200000
DTSTAMP:20260422T174741
CREATED:20230828T144925Z
LAST-MODIFIED:20230829T071819Z
UID:3874-1695319200-1695326400@kronoberg.vansterpartiet.se
SUMMARY:Distriktsstyrelsemöte 21/9
DESCRIPTION:Distriktsstyrelsemöte i vår möteslokal på Vattentorget i Växjö om ej annat anges.\nAnmäl deltagande till : kronoberg@vansterpartiet.se
URL:https://kronoberg.vansterpartiet.se/event/distriktsstyrelsemote/
END:VEVENT
BEGIN:VEVENT
DTSTART;TZID=Europe/Stockholm:20230924T093000
DTEND;TZID=Europe/Stockholm:20230924T150000
DTSTAMP:20260422T174741
CREATED:20230918T153516Z
LAST-MODIFIED:20230918T153653Z
UID:3961-1695547800-1695567600@kronoberg.vansterpartiet.se
SUMMARY:Studio V Facket och fackets historia
DESCRIPTION:Klicka på länken: Inbjudan Studio V september 2023
URL:https://kronoberg.vansterpartiet.se/event/studio-v-facket-och-fackets-historia/
END:VEVENT
BEGIN:VEVENT
DTSTART;TZID=Europe/Stockholm:20230925T183000
DTEND;TZID=Europe/Stockholm:20230925T200000
DTSTAMP:20260422T174741
CREATED:20230914T124121Z
LAST-MODIFIED:20230914T124121Z
UID:3954-1695666600-1695672000@kronoberg.vansterpartiet.se
SUMMARY:Panelsamtal på Bäckgatan 14
DESCRIPTION:Hur bygger vi framtidens samhälle där det finns plats för alla och där varje människa känner sig trygg och välkommen?\nDetta och mycket mer diskuteras när Vänsterpartiet bjuder in till ett panelsamtal om välfärd\, rättvisa\, samhällsklimat och trygghet.\nI panelen:\nAli Esbati\nRiksdagsledamot och Vänsterpartiets ekonomiskpolitiske talesperson.\nMaria Garmer\nVänsterpartistiskt kommunalråd\, Växjö kommun.\nTorbjörn Forkby\nProfessor i socialt arbete med inriktning mot barn\, unga och familj.\nSjälvklart bjuds det på fika!\nVälkomna!\nLänk: PANELSAMTAL – Vad vi talar om när vi talar om välfärd | Facebook
URL:https://kronoberg.vansterpartiet.se/event/panelsamtal-pa-backgatan-14/
END:VEVENT
END:VCALENDAR