BEGIN:VCALENDAR
VERSION:2.0
PRODID:-//Vänsterpartiet Kronoberg - ECPv6.15.17.1//NONSGML v1.0//EN
CALSCALE:GREGORIAN
METHOD:PUBLISH
X-ORIGINAL-URL:https://kronoberg.vansterpartiet.se
X-WR-CALDESC:Händelser för Vänsterpartiet Kronoberg
REFRESH-INTERVAL;VALUE=DURATION:PT1H
X-Robots-Tag:noindex
X-PUBLISHED-TTL:PT1H
BEGIN:VTIMEZONE
TZID:Europe/Stockholm
BEGIN:DAYLIGHT
TZOFFSETFROM:+0100
TZOFFSETTO:+0200
TZNAME:CEST
DTSTART:20230326T010000
END:DAYLIGHT
BEGIN:STANDARD
TZOFFSETFROM:+0200
TZOFFSETTO:+0100
TZNAME:CET
DTSTART:20231029T010000
END:STANDARD
BEGIN:DAYLIGHT
TZOFFSETFROM:+0100
TZOFFSETTO:+0200
TZNAME:CEST
DTSTART:20240331T010000
END:DAYLIGHT
BEGIN:STANDARD
TZOFFSETFROM:+0200
TZOFFSETTO:+0100
TZNAME:CET
DTSTART:20241027T010000
END:STANDARD
BEGIN:DAYLIGHT
TZOFFSETFROM:+0100
TZOFFSETTO:+0200
TZNAME:CEST
DTSTART:20250330T010000
END:DAYLIGHT
BEGIN:STANDARD
TZOFFSETFROM:+0200
TZOFFSETTO:+0100
TZNAME:CET
DTSTART:20251026T010000
END:STANDARD
BEGIN:DAYLIGHT
TZOFFSETFROM:+0100
TZOFFSETTO:+0200
TZNAME:CEST
DTSTART:20260329T010000
END:DAYLIGHT
BEGIN:STANDARD
TZOFFSETFROM:+0200
TZOFFSETTO:+0100
TZNAME:CET
DTSTART:20261025T010000
END:STANDARD
END:VTIMEZONE
BEGIN:VEVENT
DTSTART;TZID=Europe/Stockholm:20250510T130000
DTEND;TZID=Europe/Stockholm:20250510T153000
DTSTAMP:20260421T061519
CREATED:20250507T111659Z
LAST-MODIFIED:20250507T111937Z
UID:4879-1746882000-1746891000@kronoberg.vansterpartiet.se
SUMMARY:Prideparaden med Vänsterpartiet i Växjö
DESCRIPTION:Facebook-länk till evenemanget
URL:https://kronoberg.vansterpartiet.se/event/prideparaden-med-vansterpartiet-i-vaxjo/
LOCATION:Norrtullskolans parkering\, Skolgatan 2\, Växjö
END:VEVENT
BEGIN:VEVENT
DTSTART;TZID=Europe/Stockholm:20250508T090000
DTEND;TZID=Europe/Stockholm:20250508T120000
DTSTAMP:20260421T061519
CREATED:20241212T082925Z
LAST-MODIFIED:20241212T082925Z
UID:4723-1746694800-1746705600@kronoberg.vansterpartiet.se
SUMMARY:Regiongruppsmöte
DESCRIPTION:Våra regionpolitiker träffas för att diskutera en mer jämlik och jämställd vård\, bra och billig kollektivtrafik och andra aktuella frågor. Kontakta gruppledare Kerstin Wiréhn (kerstin.wirehn@kronoberg.se) om du vill delta.
URL:https://kronoberg.vansterpartiet.se/event/regiongruppsmote-7/
END:VEVENT
BEGIN:VEVENT
DTSTART;TZID=Europe/Stockholm:20250507T170000
DTEND;TZID=Europe/Stockholm:20250507T190000
DTSTAMP:20260421T061519
CREATED:20250507T110809Z
LAST-MODIFIED:20250507T112109Z
UID:4877-1746637200-1746644400@kronoberg.vansterpartiet.se
SUMMARY:Queer Karaoke
DESCRIPTION:
URL:https://kronoberg.vansterpartiet.se/event/queer-karaoke/
LOCATION:Bullet Bar\, Sandgärdsgatan 17\, Växjö\, Sverige
END:VEVENT
BEGIN:VEVENT
DTSTART;TZID=Europe/Stockholm:20250501T100000
DTEND;TZID=Europe/Stockholm:20250501T170000
DTSTAMP:20260421T061519
CREATED:20250405T065750Z
LAST-MODIFIED:20250414T133653Z
UID:4842-1746093600-1746118800@kronoberg.vansterpartiet.se
SUMMARY:1 maj i Kronoberg
DESCRIPTION:Vänsterpartiet firar 1 maj på följande platser i länet \nLjungby\nKl. 15.00 Eskilsgården\, Gamla Torg\, Ljungby \nVäxjö\nKl. 13.00-15.00 Speakers Corner\, Växjö. \nÄlmhult\nCa kl. 10.00-12.00 Älmhult
URL:https://kronoberg.vansterpartiet.se/event/1-maj-i-kronoberg/
END:VEVENT
BEGIN:VEVENT
DTSTART;TZID=Europe/Stockholm:20250410T173000
DTEND;TZID=Europe/Stockholm:20250410T200000
DTSTAMP:20260421T061519
CREATED:20250325T083556Z
LAST-MODIFIED:20250325T122305Z
UID:4806-1744306200-1744315200@kronoberg.vansterpartiet.se
SUMMARY:Distriktsstyrelsemöte
DESCRIPTION:DISTRIKTSSTYRELSEMÖTE \nVi träffas i möteslokalen på Vattentorget. \nVälkommen! \nAnmäl deltagande till: kronoberg@vansterpartiet.se \n 
URL:https://kronoberg.vansterpartiet.se/event/distriktsstyrelsemote-14/
LOCATION:Vänsterpartiet Kronoberg\, Vattentorget 1\, plan 2\, Växjö
END:VEVENT
BEGIN:VEVENT
DTSTART;TZID=Europe/Stockholm:20250410T090000
DTEND;TZID=Europe/Stockholm:20250410T120000
DTSTAMP:20260421T061519
CREATED:20241212T082853Z
LAST-MODIFIED:20241212T082853Z
UID:4721-1744275600-1744286400@kronoberg.vansterpartiet.se
SUMMARY:Regiongruppsmöte
DESCRIPTION:Våra regionpolitiker träffas för att diskutera en mer jämlik och jämställd vård\, bra och billig kollektivtrafik och andra aktuella frågor. Kontakta gruppledare Kerstin Wiréhn (kerstin.wirehn@kronoberg.se) om du vill delta.
URL:https://kronoberg.vansterpartiet.se/event/regiongruppsmote-6/
END:VEVENT
BEGIN:VEVENT
DTSTART;TZID=Europe/Stockholm:20250326T090000
DTEND;TZID=Europe/Stockholm:20250326T120000
DTSTAMP:20260421T061519
CREATED:20241212T082825Z
LAST-MODIFIED:20241212T082825Z
UID:4719-1742979600-1742990400@kronoberg.vansterpartiet.se
SUMMARY:Regiongruppsmöte
DESCRIPTION:Våra regionpolitiker träffas för att diskutera en mer jämlik och jämställd vård\, bra och billig kollektivtrafik och andra aktuella frågor. Kontakta gruppledare Kerstin Wiréhn (kerstin.wirehn@kronoberg.se) om du vill delta.
URL:https://kronoberg.vansterpartiet.se/event/regiongruppsmote-5/
END:VEVENT
BEGIN:VEVENT
DTSTART;TZID=Europe/Stockholm:20250319T170000
DTEND;TZID=Europe/Stockholm:20250319T180000
DTSTAMP:20260421T061519
CREATED:20250311T091050Z
LAST-MODIFIED:20250311T091050Z
UID:4802-1742403600-1742407200@kronoberg.vansterpartiet.se
SUMMARY:Manifestation för Palestinas barn
DESCRIPTION:Länk till evenemangets Facebooksida
URL:https://kronoberg.vansterpartiet.se/event/manifestation-for-palestinas-barn/
LOCATION:Speakers Corner\, Storgatan 20-24\, Växjö
END:VEVENT
BEGIN:VEVENT
DTSTART;TZID=Europe/Stockholm:20250315T090000
DTEND;TZID=Europe/Stockholm:20250316T150000
DTSTAMP:20260421T061519
CREATED:20250217T194856Z
LAST-MODIFIED:20250217T195151Z
UID:4776-1742029200-1742137200@kronoberg.vansterpartiet.se
SUMMARY:DISTRIKTSÅRSKONFERENS 2025
DESCRIPTION:Årets distriktsårskonferens löper över två dagar\, 15-16 mars. \nÅrskonferensen hålls i Kosta. \nAnmälan görs till kronoberg@vansterpartiet.se
URL:https://kronoberg.vansterpartiet.se/event/distriktarskonferens-2025/
END:VEVENT
BEGIN:VEVENT
DTSTART;TZID=Europe/Stockholm:20250313T173000
DTEND;TZID=Europe/Stockholm:20250313T200000
DTSTAMP:20260421T061519
CREATED:20240502T121014Z
LAST-MODIFIED:20240502T121014Z
UID:4277-1741887000-1741896000@kronoberg.vansterpartiet.se
SUMMARY:Distriktsstyrelsemöte
DESCRIPTION:DISTRIKTSSTYRELSEMÖTE \nVi träffas i möteslokalen på Vattentorget. \nVälkommen! \nAnmäl deltagande till: kronoberg@vansterpartiet.se
URL:https://kronoberg.vansterpartiet.se/event/distriktsstyrelsemote-12/
END:VEVENT
BEGIN:VEVENT
DTSTART;TZID=Europe/Stockholm:20250308T180000
DTEND;TZID=Europe/Stockholm:20250308T200000
DTSTAMP:20260421T061519
CREATED:20250206T075347Z
LAST-MODIFIED:20250206T075347Z
UID:4754-1741456800-1741464000@kronoberg.vansterpartiet.se
SUMMARY:Internationella kvinnodagen - Nina Björk
DESCRIPTION:Nina Björk har sedan debuten ”Under det rosa täcket” 1996 varit en av de viktigaste rösterna i den svenska feministiska debatten. Under hösten 2024 utkom hon med ”Medan vi lever. Tankar om existensen”.\n\nTill Växjö kommer Nina för att prata feminism\, kamp och jämställdhet.\n\nFika och gott sällskap bjuds som alltid!\n\nVi träffas i Vänsterpartiets lokaler på Bäckgatan 14\, Växjö.\n\nVälkommen!
URL:https://kronoberg.vansterpartiet.se/event/internationella-kvinnodagen-nina-bjork/
LOCATION:Vänsterpartiet i Växjö\, Bäckgatan 14\, Växjö\, Sverige
END:VEVENT
BEGIN:VEVENT
DTSTART;TZID=Europe/Stockholm:20250303T180000
DTEND;TZID=Europe/Stockholm:20250303T193000
DTSTAMP:20260421T061519
CREATED:20250217T194150Z
LAST-MODIFIED:20250217T194150Z
UID:4773-1741024800-1741030200@kronoberg.vansterpartiet.se
SUMMARY:Ida Gabrielsson besöker Växjö
DESCRIPTION:Öppet möte med Ida Gabrielsson\, ekonomisk-politisk talesperson för Vänsterpartiet. \nIda kommer till Bäckgatan 14 för att prata om välfärd\, ekonomisk politik och Vänsterpartiets strategier för ett jämlikt Sverige. \nEfter föredraget finns det möjlighet att ställa frågor. \nFika bjuds naturligtvis. \nVälkommen! \n  \n  \n  \n  \n  \n 
URL:https://kronoberg.vansterpartiet.se/event/ida-gabrielsson-besoker-vaxjo/
LOCATION:Vänsterpartiet i Växjö\, Bäckgatan 14\, Växjö\, Sverige
END:VEVENT
BEGIN:VEVENT
DTSTART;TZID=Europe/Stockholm:20250227T173000
DTEND;TZID=Europe/Stockholm:20250227T200000
DTSTAMP:20260421T061519
CREATED:20240502T120924Z
LAST-MODIFIED:20240502T120924Z
UID:4275-1740677400-1740686400@kronoberg.vansterpartiet.se
SUMMARY:Distriktsstyrelsemöte
DESCRIPTION:DISTRIKTSSTYRELSEMÖTE \nVi träffas i möteslokalen på Vattentorget. \nVälkommen! \nAnmäl deltagande till: kronoberg@vansterpartiet.se
URL:https://kronoberg.vansterpartiet.se/event/distriktsstyrelsemote-11/
END:VEVENT
BEGIN:VEVENT
DTSTART;TZID=Europe/Stockholm:20250226T160000
DTEND;TZID=Europe/Stockholm:20250226T180000
DTSTAMP:20260421T061519
CREATED:20250210T082009Z
LAST-MODIFIED:20250210T082009Z
UID:4766-1740585600-1740592800@kronoberg.vansterpartiet.se
SUMMARY:Manifestation i Växjö för Palestinas barn
DESCRIPTION:Vi genomför regelbundet manifestationer på Speakers Corner för att uppmärksamma alla de barn som dödats under det fruktansvärda folkmord som palestinier det senaste 1\,5 åren har utsatts för.\n\n26 februari samlas vi för att läsa namn på de barn som dött. Du är välkommen att delta om du vill läsa namn. Det är en fruktansvärd och obeskrivlig händelse som behöver beskrivas och något vi aldrig får glömma.\n\nLänk till evenemangets Facebooksida
URL:https://kronoberg.vansterpartiet.se/event/manifestation-i-vaxjo-for-palestinas-barn/
LOCATION:Speakers Corner\, Storgatan 20-24\, Växjö
END:VEVENT
BEGIN:VEVENT
DTSTART;TZID=Europe/Stockholm:20250217T180000
DTEND;TZID=Europe/Stockholm:20250217T200000
DTSTAMP:20260421T061519
CREATED:20241122T102418Z
LAST-MODIFIED:20250210T082150Z
UID:4678-1739815200-1739822400@kronoberg.vansterpartiet.se
SUMMARY:Årsmöte Växjö partiförening
DESCRIPTION:Årsmöte för Vänsterpartiet Växjö.
URL:https://kronoberg.vansterpartiet.se/event/arsmote-vaxjo-partiforening/
END:VEVENT
BEGIN:VEVENT
DTSTART;TZID=Europe/Stockholm:20250213T173000
DTEND;TZID=Europe/Stockholm:20250213T200000
DTSTAMP:20260421T061519
CREATED:20240502T120826Z
LAST-MODIFIED:20250129T165515Z
UID:4273-1739467800-1739476800@kronoberg.vansterpartiet.se
SUMMARY:Distriktsstyrelsemöte
DESCRIPTION:DISTRIKTSSTYRELSEMÖTE (FLYTTAT FRÅN 30/1) \nVi träffas i distriktets möteslokal på Vattentorget. \nVälkommen! \nAnmäl deltagande till: kronoberg@vansterpartiet.se
URL:https://kronoberg.vansterpartiet.se/event/distriktsstyrelsemote-10/
LOCATION:Vänsterpartiet Kronoberg\, Vattentorget 1\, plan 2\, Växjö
END:VEVENT
BEGIN:VEVENT
DTSTART;TZID=Europe/Stockholm:20250213T090000
DTEND;TZID=Europe/Stockholm:20250213T120000
DTSTAMP:20260421T061519
CREATED:20241212T082750Z
LAST-MODIFIED:20241212T082750Z
UID:4717-1739437200-1739448000@kronoberg.vansterpartiet.se
SUMMARY:Regiongruppsmöte
DESCRIPTION:Våra regionpolitiker träffas för att diskutera en mer jämlik och jämställd vård\, bra och billig kollektivtrafik och andra aktuella frågor. Kontakta gruppledare Kerstin Wiréhn (kerstin.wirehn@kronoberg.se) om du vill delta.
URL:https://kronoberg.vansterpartiet.se/event/regiongruppsmote-4/
END:VEVENT
BEGIN:VEVENT
DTSTART;TZID=Europe/Stockholm:20250206T080000
DTEND;TZID=Europe/Stockholm:20250206T170000
DTSTAMP:20260421T061519
CREATED:20250206T130027Z
LAST-MODIFIED:20250206T130027Z
UID:4763-1738828800-1738861200@kronoberg.vansterpartiet.se
SUMMARY:Öppet möte - Rädda Ljungby lasarett!
DESCRIPTION:Framtiden för Ljungby lasarett är oviss med förslag om att lägga ner såväl akut som intensivvård. Det finns röster inom politiken som säger att det måste bli så\, men frågar du personalen så säger de att Ljungby lasarett kan räddas! Vill du också höra personalens lösningar för att rädda Ljungby lasarett? Du är du välkommen till vårt öppna möte på Garvaren Konferens & Nöje 18/2 kl 18!\n\n\n\nPå plats så kommer det finnas olika röster för personalen – bland annat fackförbunden Kommunal och Vårdförbundet. Mötet leds av Olle Wihlborg\, fd kirurg och chefsläkare – öppet för alla!\n\n\n\nHjärtligt välkommen!
URL:https://kronoberg.vansterpartiet.se/event/oppet-mote-radda-ljungby-lasarett/
LOCATION:Garvaren Konferens & Nöje\, Ljungby
END:VEVENT
BEGIN:VEVENT
DTSTART;TZID=Europe/Stockholm:20250122T090000
DTEND;TZID=Europe/Stockholm:20250122T120000
DTSTAMP:20260421T061519
CREATED:20241212T082714Z
LAST-MODIFIED:20241212T083104Z
UID:4715-1737536400-1737547200@kronoberg.vansterpartiet.se
SUMMARY:Regiongruppsmöte
DESCRIPTION:Våra regionpolitiker träffas för att diskutera en mer jämlik och jämställd vård\, bra och billig kollektivtrafik och andra aktuella frågor. Kontakta gruppledare Kerstin Wiréhn (kerstin.wirehn@kronoberg.se) om du vill delta.
URL:https://kronoberg.vansterpartiet.se/event/regiongruppsmote-3/
END:VEVENT
BEGIN:VEVENT
DTSTART;TZID=Europe/Stockholm:20250111T200000
DTEND;TZID=Europe/Stockholm:20250111T220000
DTSTAMP:20260421T061519
CREATED:20250102T141524Z
LAST-MODIFIED:20250102T141524Z
UID:4730-1736625600-1736632800@kronoberg.vansterpartiet.se
SUMMARY:Talkshow med Garmer\, Bernmar och Aretakis
DESCRIPTION:Välkommen på Talkshow med Vänsterpartiet Växjö!\nVi bjuder in till en kväll med politiska samtal\, umgänge\, dans och drinkar!\nPå scen:Leonidas Aretakis – Chefredaktör FlammanDaniel Bernmar- Kommunalråd Vänsterpartiet GöteborgMaria Garmer – Kommunalråd Vänsterpartiet Växjö\nDJs för kvällen är södra Sveriges hårdast arbetande skivvändarduo MÄN SOM JOBBAR!\nDörrarna öppnar 19.30\, talkshow kl 20.00.Antalet platser (sitt och stå) är begränsat så tänk på att komma i tid.\nVälkomna!\n\nFB-länk till evenemanget\n 
URL:https://kronoberg.vansterpartiet.se/event/talkshow-med-garmer-bernmar-och-aretakis/
LOCATION:Bullet Bar\, Sandgärdsgatan 17\, Växjö\, Sverige
END:VEVENT
BEGIN:VEVENT
DTSTART;TZID=Europe/Stockholm:20241218T170000
DTEND;TZID=Europe/Stockholm:20241218T173000
DTSTAMP:20260421T061519
CREATED:20241126T170502Z
LAST-MODIFIED:20241126T170502Z
UID:4686-1734541200-1734543000@kronoberg.vansterpartiet.se
SUMMARY:Manifestation för Gaza
DESCRIPTION:Vi träffas på Speakers Corner och tänder ljus för Gazas folk och barn. \nFB-länk till evenemanget
URL:https://kronoberg.vansterpartiet.se/event/manifestation-for-gaza/
LOCATION:Speakers Corner\, Storgatan 20-24\, Växjö
END:VEVENT
BEGIN:VEVENT
DTSTART;TZID=Europe/Stockholm:20241211T173000
DTEND;TZID=Europe/Stockholm:20241211T200000
DTSTAMP:20260421T061519
CREATED:20240502T120634Z
LAST-MODIFIED:20240502T120634Z
UID:4271-1733938200-1733947200@kronoberg.vansterpartiet.se
SUMMARY:Distriktsstyrelsemöte
DESCRIPTION:DISTRIKTSSTYRELSEMÖTE \nVi träffas i möteslokalen på Vattentorget. \nVälkommen! \nAnmäl deltagande till: kronoberg@vansterpartiet.se
URL:https://kronoberg.vansterpartiet.se/event/distriktsstyrelsemote-9/
END:VEVENT
BEGIN:VEVENT
DTSTART;TZID=Europe/Stockholm:20241209T190000
DTEND;TZID=Europe/Stockholm:20241209T200000
DTSTAMP:20260421T061519
CREATED:20241122T103057Z
LAST-MODIFIED:20241122T103057Z
UID:4681-1733770800-1733774400@kronoberg.vansterpartiet.se
SUMMARY:Styrelsemöte Lessebo partiförening
DESCRIPTION:Vänsterpartiet i Lessebo har digitalt styrelsemöte.
URL:https://kronoberg.vansterpartiet.se/event/styrelsemote-lessebo-partiforening/
END:VEVENT
BEGIN:VEVENT
DTSTART;TZID=Europe/Stockholm:20241209T180000
DTEND;TZID=Europe/Stockholm:20241209T200000
DTSTAMP:20260421T061519
CREATED:20241126T165353Z
LAST-MODIFIED:20241126T165353Z
UID:4684-1733767200-1733774400@kronoberg.vansterpartiet.se
SUMMARY:Styrelsemöte Alvesta partiförening
DESCRIPTION:Vänsterpartiet i Alvesta har styrelsemöte.
URL:https://kronoberg.vansterpartiet.se/event/styrelsemote-alvesta-partiforening/
END:VEVENT
BEGIN:VEVENT
DTSTART;TZID=Europe/Stockholm:20241204T180000
DTEND;TZID=Europe/Stockholm:20241204T200000
DTSTAMP:20260421T061519
CREATED:20240809T064633Z
LAST-MODIFIED:20241018T161707Z
UID:4407-1733335200-1733342400@kronoberg.vansterpartiet.se
SUMMARY:Föreläsning - Marie Eriksson
DESCRIPTION:Läs mer på facebook
URL:https://kronoberg.vansterpartiet.se/event/forelasning-marie-eriksson/
LOCATION:Linnéuniversitetet\, Sal Weber\, Hus K
END:VEVENT
BEGIN:VEVENT
DTSTART;TZID=Europe/Stockholm:20241203T140000
DTEND;TZID=Europe/Stockholm:20241203T170000
DTSTAMP:20260421T061519
CREATED:20241018T155004Z
LAST-MODIFIED:20241025T115206Z
UID:4553-1733234400-1733245200@kronoberg.vansterpartiet.se
SUMMARY:Öppet hus med feministisk fika
DESCRIPTION:Inbjudan till Feministisk och Interfeministisk Fikaträff \nVälkommen till en inspirerande fikaträff där vi samlas för att diskutera och dela erfarenheter om feminism och interfeminism i Vänsterpartiets anda. Tillsammans skapar vi en inkluderande och engagerande miljö där alla röster får höras! \n  \nDatum: 3 december\nTid: 14.00-17.00\nPlats: IOGT-NTO\, Vänsterpartiets lokal\, Växjö \n  \nVi bjuder på fika och ser fram emot att träffa er för en meningsfull och öppen diskussion. Ta med er idéer\, tankar och er passion för en mer rättvis värld! \n  \nAnmäl gärna ert deltagande för att vi ska kunna planera fika. \nHjärtligt välkomna! \nLinnéa Naess \nInternfeministisk ansvarig
URL:https://kronoberg.vansterpartiet.se/event/oppet-hus-med-feministisk-fika/
LOCATION:Vänsterpartiet Kronoberg\, Vattentorget 1\, plan 2\, Växjö
END:VEVENT
BEGIN:VEVENT
DTSTART;TZID=Europe/Stockholm:20241128T173000
DTEND;TZID=Europe/Stockholm:20241128T200000
DTSTAMP:20260421T061519
CREATED:20240502T120522Z
LAST-MODIFIED:20241110T170350Z
UID:4269-1732815000-1732824000@kronoberg.vansterpartiet.se
SUMMARY:Distriktsstyrelsemöte
DESCRIPTION:DISTRIKTSSTYRELSEMÖTE \nOBS! Mötet hålls i Alvesta Folkets Hus. \nVälkommen! \nAnmäl deltagande till: kronoberg@vansterpartiet.se
URL:https://kronoberg.vansterpartiet.se/event/distriktsstyrelsemote-8/
LOCATION:Alvesta Folkets Hus\, Allbogatan 17\, Alvesta
END:VEVENT
BEGIN:VEVENT
DTSTART;TZID=Europe/Stockholm:20241126T170000
DTEND;TZID=Europe/Stockholm:20241126T200000
DTSTAMP:20260421T061519
CREATED:20241119T114104Z
LAST-MODIFIED:20241121T205516Z
UID:4642-1732640400-1732651200@kronoberg.vansterpartiet.se
SUMMARY:Gemensamt styrelsemöte Växjö
DESCRIPTION:Partiföreningarna i Braås-Rottne och Växjö har gemensamt styrelsemöte.
URL:https://kronoberg.vansterpartiet.se/event/gemensamt-styrelsemote-vaxjo/
END:VEVENT
BEGIN:VEVENT
DTSTART;TZID=Europe/Stockholm:20241123T150000
DTEND;TZID=Europe/Stockholm:20241123T160000
DTSTAMP:20260421T061519
CREATED:20241117T220755Z
LAST-MODIFIED:20241117T220755Z
UID:4633-1732374000-1732377600@kronoberg.vansterpartiet.se
SUMMARY:Manifestation mot angiverilagen
DESCRIPTION:Läs mer på Facebook
URL:https://kronoberg.vansterpartiet.se/event/manifestation-mot-angiverilagen/
LOCATION:Vattentorget\, Vattentorget\, Växjö
END:VEVENT
BEGIN:VEVENT
DTSTART;TZID=Europe/Stockholm:20241120T170000
DTEND;TZID=Europe/Stockholm:20241120T180000
DTSTAMP:20260421T061519
CREATED:20241117T220352Z
LAST-MODIFIED:20241117T220352Z
UID:4629-1732122000-1732125600@kronoberg.vansterpartiet.se
SUMMARY:Ljusmanifestation för Palestinas barn
DESCRIPTION:Läs mer på Facebook
URL:https://kronoberg.vansterpartiet.se/event/ljusmanifestation-for-palestinas-barn/
LOCATION:Speakers Corner\, Storgatan 20-24\, Växjö
END:VEVENT
END:VCALENDAR