BEGIN:VCALENDAR
VERSION:2.0
PRODID:-//Vänsterpartiet Kronoberg - ECPv6.15.17.1//NONSGML v1.0//EN
CALSCALE:GREGORIAN
METHOD:PUBLISH
X-ORIGINAL-URL:https://kronoberg.vansterpartiet.se
X-WR-CALDESC:Händelser för Vänsterpartiet Kronoberg
REFRESH-INTERVAL;VALUE=DURATION:PT1H
X-Robots-Tag:noindex
X-PUBLISHED-TTL:PT1H
BEGIN:VTIMEZONE
TZID:Europe/Stockholm
BEGIN:DAYLIGHT
TZOFFSETFROM:+0100
TZOFFSETTO:+0200
TZNAME:CEST
DTSTART:20210328T010000
END:DAYLIGHT
BEGIN:STANDARD
TZOFFSETFROM:+0200
TZOFFSETTO:+0100
TZNAME:CET
DTSTART:20211031T010000
END:STANDARD
BEGIN:DAYLIGHT
TZOFFSETFROM:+0100
TZOFFSETTO:+0200
TZNAME:CEST
DTSTART:20220327T010000
END:DAYLIGHT
BEGIN:STANDARD
TZOFFSETFROM:+0200
TZOFFSETTO:+0100
TZNAME:CET
DTSTART:20221030T010000
END:STANDARD
BEGIN:DAYLIGHT
TZOFFSETFROM:+0100
TZOFFSETTO:+0200
TZNAME:CEST
DTSTART:20230326T010000
END:DAYLIGHT
BEGIN:STANDARD
TZOFFSETFROM:+0200
TZOFFSETTO:+0100
TZNAME:CET
DTSTART:20231029T010000
END:STANDARD
END:VTIMEZONE
BEGIN:VEVENT
DTSTART;TZID=Europe/Stockholm:20220501T170000
DTEND;TZID=Europe/Stockholm:20220501T200000
DTSTAMP:20260421T185538
CREATED:20220429T082136Z
LAST-MODIFIED:20220429T082136Z
UID:3427-1651424400-1651435200@kronoberg.vansterpartiet.se
SUMMARY:1 maj i Ljungby
DESCRIPTION:Fira 1 maj hos oss! \nKl. 17.00 börjar vårat härliga firande i Godsmagasinet! \nHär kommer ni att få lyssna till Nina Björk\, författare och feminist.\nKronobergs Riksdagskandidat Susanne Seluska.\nRocka sockorna av oss\, ja det kommer självklart Böksholm att göra! \nSå kom och fika med oss. \n  \nDetta arrangeras i samverkan med ABF Kronoberg
URL:https://kronoberg.vansterpartiet.se/event/1-maj-i-ljungby/
END:VEVENT
BEGIN:VEVENT
DTSTART;TZID=Europe/Stockholm:20220501T130000
DTEND;TZID=Europe/Stockholm:20220501T170000
DTSTAMP:20260421T185538
CREATED:20220429T081405Z
LAST-MODIFIED:20220429T081405Z
UID:3420-1651410000-1651424400@kronoberg.vansterpartiet.se
SUMMARY:1 maj i Växjö
DESCRIPTION:Fira 1 maj med oss!! \nKl. 13 ska vi träffas på Speakers Corner för att få lyssna på våra lokala företrädare. Sedan kommer vi att gå vårat demonstrationståg tillsammans med Älghults musikkår mot Palladium. \nKl. 14 kommer Nina Björk\, författare och feminist\, att hålla ett föredrag på Palladium och vi kommer också att få lyssna på musik av klezmerstorbandet Folkdivizjon \n  \nDetta arrangerar vi tillsammans med ABF
URL:https://kronoberg.vansterpartiet.se/event/1-maj-i-vaxjo/
END:VEVENT
BEGIN:VEVENT
DTSTART;TZID=Europe/Stockholm:20220501T110000
DTEND;TZID=Europe/Stockholm:20220501T130000
DTSTAMP:20260421T185538
CREATED:20220429T074858Z
LAST-MODIFIED:20220429T082221Z
UID:3410-1651402800-1651410000@kronoberg.vansterpartiet.se
SUMMARY:1 maj i Älmhult
DESCRIPTION:1 maj firande med oss! \nVi kommer att finnas på plats på torget och svara på era frågor från kl. 11.00 och kl. 12.00 kommer Nina Björk\, författare och feminist\, att hålla tal. \nKom och lyssna och ta en kopp kaffe!
URL:https://kronoberg.vansterpartiet.se/event/1-maj-i-almhult/
END:VEVENT
END:VCALENDAR