BEGIN:VCALENDAR
VERSION:2.0
PRODID:-//Vänsterpartiet Kronoberg - ECPv6.15.17.1//NONSGML v1.0//EN
CALSCALE:GREGORIAN
METHOD:PUBLISH
X-ORIGINAL-URL:https://kronoberg.vansterpartiet.se
X-WR-CALDESC:Händelser för Vänsterpartiet Kronoberg
REFRESH-INTERVAL;VALUE=DURATION:PT1H
X-Robots-Tag:noindex
X-PUBLISHED-TTL:PT1H
BEGIN:VTIMEZONE
TZID:Europe/Stockholm
BEGIN:DAYLIGHT
TZOFFSETFROM:+0100
TZOFFSETTO:+0200
TZNAME:CEST
DTSTART:20240331T010000
END:DAYLIGHT
BEGIN:STANDARD
TZOFFSETFROM:+0200
TZOFFSETTO:+0100
TZNAME:CET
DTSTART:20241027T010000
END:STANDARD
BEGIN:DAYLIGHT
TZOFFSETFROM:+0100
TZOFFSETTO:+0200
TZNAME:CEST
DTSTART:20250330T010000
END:DAYLIGHT
BEGIN:STANDARD
TZOFFSETFROM:+0200
TZOFFSETTO:+0100
TZNAME:CET
DTSTART:20251026T010000
END:STANDARD
BEGIN:DAYLIGHT
TZOFFSETFROM:+0100
TZOFFSETTO:+0200
TZNAME:CEST
DTSTART:20260329T010000
END:DAYLIGHT
BEGIN:STANDARD
TZOFFSETFROM:+0200
TZOFFSETTO:+0100
TZNAME:CET
DTSTART:20261025T010000
END:STANDARD
BEGIN:DAYLIGHT
TZOFFSETFROM:+0100
TZOFFSETTO:+0200
TZNAME:CEST
DTSTART:20270328T010000
END:DAYLIGHT
BEGIN:STANDARD
TZOFFSETFROM:+0200
TZOFFSETTO:+0100
TZNAME:CET
DTSTART:20271031T010000
END:STANDARD
END:VTIMEZONE
BEGIN:VEVENT
DTSTART;TZID=Europe/Stockholm:20250928T100000
DTEND;TZID=Europe/Stockholm:20250928T150000
DTSTAMP:20260421T184757
CREATED:20250917T093744Z
LAST-MODIFIED:20250917T093744Z
UID:4982-1759053600-1759071600@kronoberg.vansterpartiet.se
SUMMARY:Strategidag
DESCRIPTION:Strategidag för medlemmar i Kronobergs län. \nFika från 9.30. \nVälkommen med din anmälan senast 25/9 till: kronoberg@vansterpartiet.se
URL:https://kronoberg.vansterpartiet.se/event/strategidag/
LOCATION:Vänsterpartiet Kronoberg\, Vattentorget 1\, plan 2\, Växjö
END:VEVENT
BEGIN:VEVENT
DTSTART;TZID=Europe/Stockholm:20251023T173000
DTEND;TZID=Europe/Stockholm:20251023T200000
DTSTAMP:20260421T184757
CREATED:20250414T134858Z
LAST-MODIFIED:20250414T135529Z
UID:4859-1761240600-1761249600@kronoberg.vansterpartiet.se
SUMMARY:Distriktsstyrelsemöte
DESCRIPTION:DISTRIKTSSTYRELSEMÖTE \nVi träffas i möteslokalen på Vattentorget. \nVälkommen! \nAnmäl deltagande till: kronoberg@vansterpartiet.se
URL:https://kronoberg.vansterpartiet.se/event/distriktsstyrelsemote-19/
LOCATION:Vänsterpartiet Kronoberg\, Vattentorget 1\, plan 2\, Växjö
END:VEVENT
BEGIN:VEVENT
DTSTART;TZID=Europe/Stockholm:20251109T140000
DTEND;TZID=Europe/Stockholm:20251109T153000
DTSTAMP:20260421T184757
CREATED:20251103T152744Z
LAST-MODIFIED:20251103T152744Z
UID:5011-1762696800-1762702200@kronoberg.vansterpartiet.se
SUMMARY:Vi minns novemberpogromen
DESCRIPTION:
URL:https://kronoberg.vansterpartiet.se/event/vi-minns-novemberpogromen/
LOCATION:Vänsterpartiet i Växjö\, Bäckgatan 14\, Växjö\, Sverige
END:VEVENT
BEGIN:VEVENT
DTSTART;TZID=Europe/Stockholm:20251117T180000
DTEND;TZID=Europe/Stockholm:20251117T200000
DTSTAMP:20260421T184757
CREATED:20251028T154642Z
LAST-MODIFIED:20251028T154642Z
UID:5007-1763402400-1763409600@kronoberg.vansterpartiet.se
SUMMARY:Kom och lyssna på Pierre Schori
DESCRIPTION:Ta tillbaka Sveriges alliansfrihet!  \nGe freden en chans! \nUSA är huvudkraften bakom Israels folkmord på palestinier. USA är Israels främsta stöttepelare och drivkraften bakom ett antal folkrättsstridiga krig i Mellanöstern och andra delar av världen\, bl.a. i Libyen och Irak. Det är krig som har smulat sönder fungerande stater och civilsamhällen. Krigen har dödat\, lemlästat och fördrivit miljontals människor. \nUSA är det ledande landet i Nato. Sveriges medlemskap i Nato är därmed ett stöd till USA:s krig. Kronoberg Fred och Alliansfrihet\, KFA\, säger: \n\nJa till alliansfrihet och fred! \nNej till USA-baser i Sverige – Bryt DCA-avtalet! \nSverige ut ur Nato!\n\n  \n  \nStoppa krigshetsen! \nSverige har tidigare haft gott internationellt anseende. Vi har varit ett land som verkat för fred och internationell solidaritet i enlighet med FN-stadgans principer. Grunden för vårt lands utrikes- och försvarspolitik var alliansfrihet i fred syftande till neutralitet i krig. \nEn princip var att inte exportera vapen till krigförande länder. Den politiken har abrupt övergivits. \nSverige har dragits in i en rustningsspiral som inte syftar till försvar av vårt land. Sverige och de övriga nordiska Natoländerna görs till USA:s norra front mot Ryssland. Som Natomedlem har Sverige blivit både ett uppmarschområde och en måltavla. \nÄven EU omvandlas till en militärallians. Nyligen accepterade alla 27 EU länder upprustningsplanen ”ReArm Europe” för nio biljoner (niotusen miljarder) kronor. Det görs i en tid av djup ekonomisk kris. \nSverige har slutit ett så kallat försvarssamarbets- avtal med USA\, Defence Cooperation Agreement\, DCA. Det ger USA rätt att upprätta 17 militärbaser med egna soldater och vapen spridda över Sveriges territorium. Det är baser där USA bestämmer! Sverige görs till måltavla i ett krig som varken det svenska folket eller vårt lands regering och riksdag kan besluta om. \nNatos strategi baseras på kärnvapen. I DCA-avtalet finns inga reservationer mot placering av kärnvapen på svenskt territorium. Sveriges statsminister och militärledning har tvärtom förklarat att kärnvapen kan komma att placeras i Sverige i krigstid. Men just i krigstid är det särskilt angeläget att Sverige inte har sådana vapen eller misstänks ha det. Det gör oss till mål för kärnvapenangrepp. \n\nEtt flygblad från KFA\, Kronoberg Fred & Alliansfrihet: Ola Korsfeldt\, 076-823 17 78\nGe ett bidrag till vårt arbete på Bg 792-8294 eller Swish 070-641 69 58\n\nKom och lyssna på Pierre Schori\, tidigare svensk vice utrikesminister och FN-ambassadör som talar om Nato\, DCA och Sverige! \nVäxjö bibliotek\, sal Galaxen\, måndag 17/11 kl 18.00 \nMötet arr. av IKFF\, Svenska Freds\, Kristna Freds och KFA tillsammans. \n 
URL:https://kronoberg.vansterpartiet.se/event/kom-och-lyssna-pa-pierre-schori/
END:VEVENT
BEGIN:VEVENT
DTSTART;TZID=Europe/Stockholm:20251120T173000
DTEND;TZID=Europe/Stockholm:20251120T200000
DTSTAMP:20260421T184757
CREATED:20250414T135021Z
LAST-MODIFIED:20250414T140518Z
UID:4861-1763659800-1763668800@kronoberg.vansterpartiet.se
SUMMARY:Distriktsstyrelsemöte
DESCRIPTION:DISTRIKTSSTYRELSEMÖTE \nVi träffas i möteslokalen på Vattentorget. \nVälkommen! \nAnmäl deltagande till: kronoberg@vansterpartiet.se
URL:https://kronoberg.vansterpartiet.se/event/distriktsstyrelsemote-20/
LOCATION:Vänsterpartiet Kronoberg\, Vattentorget 1\, plan 2\, Växjö
END:VEVENT
BEGIN:VEVENT
DTSTART;TZID=Europe/Stockholm:20251211T173000
DTEND;TZID=Europe/Stockholm:20251211T200000
DTSTAMP:20260421T184757
CREATED:20250414T135139Z
LAST-MODIFIED:20250414T135139Z
UID:4863-1765474200-1765483200@kronoberg.vansterpartiet.se
SUMMARY:Distriktsstyrelsemöte
DESCRIPTION:DISTRIKTSSTYRELSEMÖTE \nVi träffas i möteslokalen på Vattentorget. \nVälkommen! \nAnmäl deltagande till: kronoberg@vansterpartiet.se
URL:https://kronoberg.vansterpartiet.se/event/distriktsstyrelsemote-21/
LOCATION:Vänsterpartiet Kronoberg\, Vattentorget 1\, plan 2\, Växjö
END:VEVENT
BEGIN:VEVENT
DTSTART;TZID=Europe/Stockholm:20260122T173000
DTEND;TZID=Europe/Stockholm:20260122T200000
DTSTAMP:20260421T184757
CREATED:20250414T135929Z
LAST-MODIFIED:20250414T135929Z
UID:4865-1769103000-1769112000@kronoberg.vansterpartiet.se
SUMMARY:Distriktsstyrelsemöte
DESCRIPTION:DISTRIKTSSTYRELSEMÖTE \nVi träffas i möteslokalen på Vattentorget. \nVälkommen! \nAnmäl deltagande till: kronoberg@vansterpartiet.se
URL:https://kronoberg.vansterpartiet.se/event/distriktsstyrelsemote-22/
LOCATION:Vänsterpartiet Kronoberg\, Vattentorget 1\, plan 2\, Växjö
END:VEVENT
BEGIN:VEVENT
DTSTART;TZID=Europe/Stockholm:20260208T100000
DTEND;TZID=Europe/Stockholm:20260208T160000
DTSTAMP:20260421T184757
CREATED:20260203T183436Z
LAST-MODIFIED:20260203T183436Z
UID:5089-1770544800-1770566400@kronoberg.vansterpartiet.se
SUMMARY:Valkonferens
DESCRIPTION:
URL:https://kronoberg.vansterpartiet.se/event/valkonferens/
LOCATION:Alvesta Folkets Hus\, Allbogatan 17\, Alvesta
END:VEVENT
BEGIN:VEVENT
DTSTART;TZID=Europe/Stockholm:20260219T173000
DTEND;TZID=Europe/Stockholm:20260219T200000
DTSTAMP:20260421T184757
CREATED:20250414T140058Z
LAST-MODIFIED:20250414T140416Z
UID:4867-1771522200-1771531200@kronoberg.vansterpartiet.se
SUMMARY:Distriktsstyrelsemöte
DESCRIPTION:DISTRIKTSSTYRELSEMÖTE \nVi träffas i möteslokalen på Vattentorget. \nVälkommen! \nAnmäl deltagande till: kronoberg@vansterpartiet.se
URL:https://kronoberg.vansterpartiet.se/event/distriktsstyrelsemote-23/
LOCATION:Vänsterpartiet Kronoberg\, Vattentorget 1\, plan 2\, Växjö
END:VEVENT
BEGIN:VEVENT
DTSTART;TZID=Europe/Stockholm:20260312T173000
DTEND;TZID=Europe/Stockholm:20260312T200000
DTSTAMP:20260421T184757
CREATED:20250414T140218Z
LAST-MODIFIED:20250414T140218Z
UID:4869-1773336600-1773345600@kronoberg.vansterpartiet.se
SUMMARY:Distriktsstyrelsemöte
DESCRIPTION:DISTRIKTSSTYRELSEMÖTE \nVi träffas i möteslokalen på Vattentorget. \nVälkommen! \nAnmäl deltagande till: kronoberg@vansterpartiet.se
URL:https://kronoberg.vansterpartiet.se/event/distriktsstyrelsemote-24/
LOCATION:Vänsterpartiet Kronoberg\, Vattentorget 1\, plan 2\, Växjö
END:VEVENT
BEGIN:VEVENT
DTSTART;TZID=Europe/Stockholm:20260331T180000
DTEND;TZID=Europe/Stockholm:20260331T193000
DTSTAMP:20260421T184757
CREATED:20260316T191413Z
LAST-MODIFIED:20260316T191413Z
UID:5144-1774980000-1774985400@kronoberg.vansterpartiet.se
SUMMARY:Kongressombudsutfrågning
DESCRIPTION:
URL:https://kronoberg.vansterpartiet.se/event/kongressombudsutfragning/
LOCATION:Vänsterpartiet i Växjö\, Bäckgatan 14\, Växjö\, Sverige
END:VEVENT
BEGIN:VEVENT
DTSTART;TZID=Europe/Stockholm:20260416T173000
DTEND;TZID=Europe/Stockholm:20260416T200000
DTSTAMP:20260421T184757
CREATED:20260316T191145Z
LAST-MODIFIED:20260316T191145Z
UID:5142-1776360600-1776369600@kronoberg.vansterpartiet.se
SUMMARY:Distriktsstyrelsemöte
DESCRIPTION:DISTRIKTSSTYRELSEMÖTE \nVi träffas i möteslokalen på Vattentorget. \nVälkommen! \nAnmäl deltagande till: kronoberg@vansterpartiet.se
URL:https://kronoberg.vansterpartiet.se/event/distriktsstyrelsemote-25/
LOCATION:Vänsterpartiet Kronoberg\, Vattentorget 1\, plan 2\, Växjö
END:VEVENT
BEGIN:VEVENT
DTSTART;TZID=Europe/Stockholm:20260507T180000
DTEND;TZID=Europe/Stockholm:20260507T190000
DTSTAMP:20260421T184757
CREATED:20260421T080533Z
LAST-MODIFIED:20260421T080533Z
UID:5174-1778176800-1778180400@kronoberg.vansterpartiet.se
SUMMARY:KLAN Föreläsning: Emelie Bäckström
DESCRIPTION:Välkommen till en stark och hoppfull föreläsning med Emelie Bäckström \nMötesplats Vattentorget\, 7 maj klockan 18.00-19.00 \nEfter många år av mod och bearbetning har Emelie Bäckström skrivit sin självbiografi\nSe till mig som liten är\, tillsammans med journalisten Isabella Harbrecht. I boken\nberättar hon om en uppväxt präglad av våld\, missbruk och vuxenvärldens svek – men\nockså om kraften i att hitta trygga sammanhang och skapa hopp där det nästan inte\nfinns något. \nRedan som barn tvingades Emelie ta ett vuxenansvar för sina syskon och navigera i\nen vardag fylld av otrygghet. Trots tidiga kontakter med socialtjänsten dröjde hjälpen\,\noch erfarenheterna har gett henne ett starkt engagemang för barns rätt till skydd och\nstöd. \nI dag föreläser Emelie om sin resa – från utsatthet till att själv bli en trygg vuxen och\nröst för andra. Det är en berättelse om överlevnad\, ansvar\, samverkan mellan\nmyndigheter och vikten av att se de barn som annars riskerar att falla mellan stolarna.\nDet här är föreläsningen som hon själv hade behövt som barn – en kväll som berör\,\nväcker tankar och framför allt förmedlar hopp. \nVarmt välkommen! \nIngen föranmälan krävs.
URL:https://kronoberg.vansterpartiet.se/event/klan-forelasning-emelie-backstrom/
LOCATION:Mötesplats Vattentorget\, Vattentorget 1\, Växjö
END:VEVENT
BEGIN:VEVENT
DTSTART;TZID=Europe/Stockholm:20260521T173000
DTEND;TZID=Europe/Stockholm:20260521T200000
DTSTAMP:20260421T184757
CREATED:20260417T074843Z
LAST-MODIFIED:20260417T074843Z
UID:5170-1779384600-1779393600@kronoberg.vansterpartiet.se
SUMMARY:Distriktsstyrelsemöte
DESCRIPTION:DISTRIKTSSTYRELSEMÖTE \nVi träffas i möteslokalen på Vattentorget. \nVälkommen! \nAnmäl deltagande till: kronoberg@vansterpartiet.se
URL:https://kronoberg.vansterpartiet.se/event/distriktsstyrelsemote-26/
LOCATION:Vänsterpartiet Kronoberg\, Vattentorget 1\, plan 2\, Växjö
END:VEVENT
END:VCALENDAR