BEGIN:VCALENDAR
VERSION:2.0
PRODID:-//Vänsterpartiet Kronoberg - ECPv6.15.17.1//NONSGML v1.0//EN
CALSCALE:GREGORIAN
METHOD:PUBLISH
X-WR-CALNAME:Vänsterpartiet Kronoberg
X-ORIGINAL-URL:https://kronoberg.vansterpartiet.se
X-WR-CALDESC:Händelser för Vänsterpartiet Kronoberg
REFRESH-INTERVAL;VALUE=DURATION:PT1H
X-Robots-Tag:noindex
X-PUBLISHED-TTL:PT1H
BEGIN:VTIMEZONE
TZID:Europe/Stockholm
BEGIN:DAYLIGHT
TZOFFSETFROM:+0100
TZOFFSETTO:+0200
TZNAME:CEST
DTSTART:20220327T010000
END:DAYLIGHT
BEGIN:STANDARD
TZOFFSETFROM:+0200
TZOFFSETTO:+0100
TZNAME:CET
DTSTART:20221030T010000
END:STANDARD
BEGIN:DAYLIGHT
TZOFFSETFROM:+0100
TZOFFSETTO:+0200
TZNAME:CEST
DTSTART:20230326T010000
END:DAYLIGHT
BEGIN:STANDARD
TZOFFSETFROM:+0200
TZOFFSETTO:+0100
TZNAME:CET
DTSTART:20231029T010000
END:STANDARD
BEGIN:DAYLIGHT
TZOFFSETFROM:+0100
TZOFFSETTO:+0200
TZNAME:CEST
DTSTART:20240331T010000
END:DAYLIGHT
BEGIN:STANDARD
TZOFFSETFROM:+0200
TZOFFSETTO:+0100
TZNAME:CET
DTSTART:20241027T010000
END:STANDARD
BEGIN:DAYLIGHT
TZOFFSETFROM:+0100
TZOFFSETTO:+0200
TZNAME:CEST
DTSTART:20250330T010000
END:DAYLIGHT
BEGIN:STANDARD
TZOFFSETFROM:+0200
TZOFFSETTO:+0100
TZNAME:CET
DTSTART:20251026T010000
END:STANDARD
END:VTIMEZONE
BEGIN:VEVENT
DTSTART;TZID=Europe/Stockholm:20230810T180000
DTEND;TZID=Europe/Stockholm:20230810T200000
DTSTAMP:20260423T001402
CREATED:20230807T134528Z
LAST-MODIFIED:20230807T134528Z
UID:3757-1691690400-1691697600@kronoberg.vansterpartiet.se
SUMMARY:Distriktsstyrelsemöte kl. 18.00-20.00
DESCRIPTION:Distriktsstyrelsens extramöte.
URL:https://kronoberg.vansterpartiet.se/event/distriktsstyrelsemote-kl-18-00-20-00/
END:VEVENT
BEGIN:VEVENT
DTSTART;TZID=Europe/Stockholm:20230818T100000
DTEND;TZID=Europe/Stockholm:20230818T140000
DTSTAMP:20260423T001402
CREATED:20230814T124717Z
LAST-MODIFIED:20230814T124717Z
UID:3770-1692352800-1692367200@kronoberg.vansterpartiet.se
SUMMARY:Dädesjö marknad kl. 10.00-14.00
DESCRIPTION:V Braås/Rottne deltar vid Dädesjö marknad.\nLäs mer: Dädesjö Marknad | Evenemang & Marknadskalendern i Sverige
URL:https://kronoberg.vansterpartiet.se/event/dadesjo-marknad-kl-10-00-14-00/
END:VEVENT
BEGIN:VEVENT
DTSTART;TZID=Europe/Stockholm:20230819T113000
DTEND;TZID=Europe/Stockholm:20230819T113000
DTSTAMP:20260423T001402
CREATED:20230817T151039Z
LAST-MODIFIED:20230817T151039Z
UID:3785-1692444600-1692444600@kronoberg.vansterpartiet.se
SUMMARY:Externt: Protest mot avverkning i Fyllerydskogen kl. 11.30-12.30
DESCRIPTION:
URL:https://kronoberg.vansterpartiet.se/event/externt-protest-mot-avverkning-i-fyllerydskogen-kl-11-30-12-30/
END:VEVENT
BEGIN:VEVENT
DTSTART;TZID=Europe/Stockholm:20230823T180000
DTEND;TZID=Europe/Stockholm:20230823T200000
DTSTAMP:20260423T001402
CREATED:20230814T123750Z
LAST-MODIFIED:20230814T185013Z
UID:3766-1692813600-1692820800@kronoberg.vansterpartiet.se
SUMMARY:Distriktsstyrelsemöte kl 18.00-20.00 i Älmhult
DESCRIPTION:Distriktsstyrelsen har möte i kommunhuset i Älmhult. Samåkning sker från Vattentorget 17.00\, anmäl dig i så fall till kronoberg@vansterpartiet.se .
URL:https://kronoberg.vansterpartiet.se/event/distriktsstyrelsemote-kl-18-00-20-00-i-almhult/
END:VEVENT
BEGIN:VEVENT
DTSTART;TZID=Europe/Stockholm:20230826T080000
DTEND;TZID=Europe/Stockholm:20230826T140000
DTSTAMP:20260423T001402
CREATED:20230824T122538Z
LAST-MODIFIED:20230824T134726Z
UID:3852-1693036800-1693058400@kronoberg.vansterpartiet.se
SUMMARY:Mohedadagarna 26/8
DESCRIPTION:V Alvesta deltar vid marknaden under Mohedadagarna. \nProgram 2023 – Moheda.se
URL:https://kronoberg.vansterpartiet.se/event/mohedadagarna-26-8/
END:VEVENT
BEGIN:VEVENT
DTSTART;TZID=Europe/Stockholm:20230826T140000
DTEND;TZID=Europe/Stockholm:20230826T143000
DTSTAMP:20260423T001402
CREATED:20230824T135403Z
LAST-MODIFIED:20230824T135403Z
UID:3854-1693058400-1693060200@kronoberg.vansterpartiet.se
SUMMARY:Nooshi håller sommartal
DESCRIPTION:Nooshi Dadgostar håller sommartal i Göteborg och detta sänds live på Facebook:\nNooshi Dadgostar håller sommartal i Göteborg | Facebook
URL:https://kronoberg.vansterpartiet.se/event/nooshi-haller-sommartal/
END:VEVENT
BEGIN:VEVENT
DTSTART;TZID=Europe/Stockholm:20230827T100000
DTEND;TZID=Europe/Stockholm:20230827T150000
DTSTAMP:20260423T001402
CREATED:20230816T104013Z
LAST-MODIFIED:20230817T122350Z
UID:3776-1693130400-1693148400@kronoberg.vansterpartiet.se
SUMMARY:Studio V kl. 10.00-15.00 i Alvesta
DESCRIPTION:Vänsterpartiet i Alvesta anordnar nu evenemang nummer 4\ninom ramen för Studio V: Nämnder och kommunalt styre. \nDetta görs i samarbete med ABF Södra Småland och Distrikt Kronoberg. \nStudio V är till för alla som är intresserade av att lära sig mer om politik och deltagandet är kostnadsfritt!\nDaniel Vintersvärd och Linnéa Naess håller i evenemanget.\nPlats: Folkets hus\, Allbogatan 15\, 342 30 Alvesta \nFrån kl 10.00 (med fika för de som vill ha) till ca kl 15.00 med paus för lunch vid kl 12:00. Bespisning: Deltagare bjuds på lunch samt för- och eftermiddagsfika. \nMeddela deltagande via e-post till linnea.naess@outlook.com\n1) Skriv hur många som kommer\n2) namn\n3) vilken mat man vill ha (kyckling-\, vegetarisk-\, räk- eller tonfisksallad)\n4) samt eventuella allergier (så att vi kan dubbelkolla maten)\nVid anmälan får du ett svarsmail – hör av dig om du inte fått något på några dagar. \nStudiecirkeln är öppen utan krav på medlemskap. \nVarmt välkomna!
URL:https://kronoberg.vansterpartiet.se/event/studio-v-kl-10-00-15-00-i-alvesta/
END:VEVENT
BEGIN:VEVENT
DTSTART;TZID=Europe/Stockholm:20230907T090000
DTEND;TZID=Europe/Stockholm:20230907T120000
DTSTAMP:20260423T001402
CREATED:20230823T115026Z
LAST-MODIFIED:20230823T115606Z
UID:3823-1694077200-1694088000@kronoberg.vansterpartiet.se
SUMMARY:Regiongruppsmöte 7/9
DESCRIPTION:Våra regionpolitiker träffas för att diskutera en mer jämlik och jämställd vård\, bra och billig kollektivtrafik och andra aktuella frågor. Kontakta gruppledare Kerstin Wiréhn (kerstin.wirehn@kronoberg.se) om du vill delta.
URL:https://kronoberg.vansterpartiet.se/event/regiongruppsmote/
LOCATION:Centrallasarattet i Växjö
END:VEVENT
BEGIN:VEVENT
DTSTART;TZID=Europe/Stockholm:20230921T180000
DTEND;TZID=Europe/Stockholm:20230921T200000
DTSTAMP:20260423T001402
CREATED:20230828T144925Z
LAST-MODIFIED:20230829T071819Z
UID:3874-1695319200-1695326400@kronoberg.vansterpartiet.se
SUMMARY:Distriktsstyrelsemöte 21/9
DESCRIPTION:Distriktsstyrelsemöte i vår möteslokal på Vattentorget i Växjö om ej annat anges.\nAnmäl deltagande till : kronoberg@vansterpartiet.se
URL:https://kronoberg.vansterpartiet.se/event/distriktsstyrelsemote/
END:VEVENT
BEGIN:VEVENT
DTSTART;TZID=Europe/Stockholm:20230924T093000
DTEND;TZID=Europe/Stockholm:20230924T150000
DTSTAMP:20260423T001402
CREATED:20230918T153516Z
LAST-MODIFIED:20230918T153653Z
UID:3961-1695547800-1695567600@kronoberg.vansterpartiet.se
SUMMARY:Studio V Facket och fackets historia
DESCRIPTION:Klicka på länken: Inbjudan Studio V september 2023
URL:https://kronoberg.vansterpartiet.se/event/studio-v-facket-och-fackets-historia/
END:VEVENT
BEGIN:VEVENT
DTSTART;TZID=Europe/Stockholm:20230925T183000
DTEND;TZID=Europe/Stockholm:20230925T200000
DTSTAMP:20260423T001402
CREATED:20230914T124121Z
LAST-MODIFIED:20230914T124121Z
UID:3954-1695666600-1695672000@kronoberg.vansterpartiet.se
SUMMARY:Panelsamtal på Bäckgatan 14
DESCRIPTION:Hur bygger vi framtidens samhälle där det finns plats för alla och där varje människa känner sig trygg och välkommen?\nDetta och mycket mer diskuteras när Vänsterpartiet bjuder in till ett panelsamtal om välfärd\, rättvisa\, samhällsklimat och trygghet.\nI panelen:\nAli Esbati\nRiksdagsledamot och Vänsterpartiets ekonomiskpolitiske talesperson.\nMaria Garmer\nVänsterpartistiskt kommunalråd\, Växjö kommun.\nTorbjörn Forkby\nProfessor i socialt arbete med inriktning mot barn\, unga och familj.\nSjälvklart bjuds det på fika!\nVälkomna!\nLänk: PANELSAMTAL – Vad vi talar om när vi talar om välfärd | Facebook
URL:https://kronoberg.vansterpartiet.se/event/panelsamtal-pa-backgatan-14/
END:VEVENT
BEGIN:VEVENT
DTSTART;TZID=Europe/Stockholm:20231011T090000
DTEND;TZID=Europe/Stockholm:20231011T120000
DTSTAMP:20260423T001402
CREATED:20230823T115245Z
LAST-MODIFIED:20230823T115245Z
UID:3828-1697014800-1697025600@kronoberg.vansterpartiet.se
SUMMARY:Regiongruppsmöte 11/10
DESCRIPTION:Våra regionpolitiker träffas för att diskutera en mer jämlik och jämställd vård\, bra och billig kollektivtrafik och andra aktuella frågor. Kontakta gruppledare Kerstin Wiréhn (kerstin.wirehn@kronoberg.se) om du vill delta.
URL:https://kronoberg.vansterpartiet.se/event/regiongruppsmote-11-10/
END:VEVENT
BEGIN:VEVENT
DTSTART;TZID=Europe/Stockholm:20231029T093000
DTEND;TZID=Europe/Stockholm:20231029T150000
DTSTAMP:20260423T001402
CREATED:20231012T153034Z
LAST-MODIFIED:20231012T153034Z
UID:3991-1698571800-1698591600@kronoberg.vansterpartiet.se
SUMMARY:Studio V - Podd och media
DESCRIPTION:Klicka på länken: Inbjudan Studio V oktober 2023
URL:https://kronoberg.vansterpartiet.se/event/studio-v-podd-och-media/
END:VEVENT
BEGIN:VEVENT
DTSTART;TZID=Europe/Stockholm:20231030T180000
DTEND;TZID=Europe/Stockholm:20231030T200000
DTSTAMP:20260423T001402
CREATED:20230828T145205Z
LAST-MODIFIED:20230829T071738Z
UID:3876-1698688800-1698696000@kronoberg.vansterpartiet.se
SUMMARY:Distriktsstyrelsemöte 30/10
DESCRIPTION:Distriktsstyrelsemöte i vår möteslokal på Vattentorget i Växjö om ej annat anges.\nAnmäl deltagande till : kronoberg@vansterpartiet.se
URL:https://kronoberg.vansterpartiet.se/event/distriktsstyrelsemote-2/
END:VEVENT
BEGIN:VEVENT
DTSTART;TZID=Europe/Stockholm:20231031T190000
DTEND;TZID=Europe/Stockholm:20231031T210000
DTSTAMP:20260423T001402
CREATED:20231017T151438Z
LAST-MODIFIED:20231017T151438Z
UID:3995-1698778800-1698786000@kronoberg.vansterpartiet.se
SUMMARY:Öppen träff i Hovmantorp
DESCRIPTION:
URL:https://kronoberg.vansterpartiet.se/event/oppen-traff-i-hovmantorp/
END:VEVENT
BEGIN:VEVENT
DTSTART;TZID=Europe/Stockholm:20231101T090000
DTEND;TZID=Europe/Stockholm:20231101T120000
DTSTAMP:20260423T001402
CREATED:20230823T115350Z
LAST-MODIFIED:20230823T115350Z
UID:3830-1698829200-1698840000@kronoberg.vansterpartiet.se
SUMMARY:Regiongruppsmöte 1/11
DESCRIPTION:Våra regionpolitiker träffas för att diskutera en mer jämlik och jämställd vård\, bra och billig kollektivtrafik och andra aktuella frågor. Kontakta gruppledare Kerstin Wiréhn (kerstin.wirehn@kronoberg.se) om du vill delta.
URL:https://kronoberg.vansterpartiet.se/event/regiongruppsmote-1-11/
END:VEVENT
BEGIN:VEVENT
DTSTART;TZID=Europe/Stockholm:20231123T173000
DTEND;TZID=Europe/Stockholm:20231123T183000
DTSTAMP:20260423T001402
CREATED:20231120T075731Z
LAST-MODIFIED:20231122T133536Z
UID:4092-1700760600-1700764200@kronoberg.vansterpartiet.se
SUMMARY:OBS! INSTÄLLD!  INSTÄLLD! INSTÄLLD!                 V Ljungby: Manifestation för fred
DESCRIPTION:OBS!\nManifestationen är inställd. \n  \nInte ett barn till!\nEldupphör nu! \n 
URL:https://kronoberg.vansterpartiet.se/event/v-ljungby-manifestation-for-fred/
END:VEVENT
BEGIN:VEVENT
DTSTART;TZID=Europe/Stockholm:20231126T093000
DTEND;TZID=Europe/Stockholm:20231126T150000
DTSTAMP:20260423T001402
CREATED:20231117T080123Z
LAST-MODIFIED:20231124T072230Z
UID:4085-1700991000-1701010800@kronoberg.vansterpartiet.se
SUMMARY:INSTÄLLD! INSTÄLLD! INSTÄLLD! Studio V 26/11 Tema: styrelsearbete
DESCRIPTION:OBS! Utbildningen är inställd. \nVälkommen till årets sista Studio V! (3/12 är inställt)\nDenna gång på temat styrelsearbete. \nPassa på att tillbringa en härlig och berikande dag i Alvesta\, innan julstöket börjar! \nMichael Sjöö från ABF håller i utbildningen.\nPå plats finns också Björn Nilsson från V Alvesta. \nFölj länken: Inbjudan Studio V 2023-11-26
URL:https://kronoberg.vansterpartiet.se/event/studio-v-26-11-tema-styrelsearbete/
END:VEVENT
BEGIN:VEVENT
DTSTART;TZID=Europe/Stockholm:20231127T180000
DTEND;TZID=Europe/Stockholm:20231127T200000
DTSTAMP:20260423T001402
CREATED:20231106T121310Z
LAST-MODIFIED:20231106T121310Z
UID:4066-1701108000-1701115200@kronoberg.vansterpartiet.se
SUMMARY:Distriktsstyrelsemöte 27/11
DESCRIPTION:Distriktsstyrelsen har möte 27/11 kl. 18.00 \nVi ses i vår möteslokal på Vattentorget\, om ej annat anges.\nDigital medverkan är möjlig.\nVänligen anmäl deltagande till kronoberg@vansterpartiet.se. \nVälkommen!
URL:https://kronoberg.vansterpartiet.se/event/distriktsstyrelsemote-27-11/
END:VEVENT
BEGIN:VEVENT
DTSTART;TZID=Europe/Stockholm:20231206T090000
DTEND;TZID=Europe/Stockholm:20231206T120000
DTSTAMP:20260423T001402
CREATED:20230823T120853Z
LAST-MODIFIED:20230823T120914Z
UID:3832-1701853200-1701864000@kronoberg.vansterpartiet.se
SUMMARY:Regiongruppsmöte 6/12
DESCRIPTION:Våra regionpolitiker träffas för att diskutera en mer jämlik och jämställd vård\, bra och billig kollektivtrafik och andra aktuella frågor. Kontakta gruppledare Kerstin Wiréhn (kerstin.wirehn@kronoberg.se) om du vill delta.
URL:https://kronoberg.vansterpartiet.se/event/regiongruppsmote-2/
LOCATION:Ljungby
END:VEVENT
BEGIN:VEVENT
DTSTART;TZID=Europe/Stockholm:20231219T173000
DTEND;TZID=Europe/Stockholm:20231219T193000
DTSTAMP:20260423T001402
CREATED:20231106T121518Z
LAST-MODIFIED:20231128T095000Z
UID:4074-1703007000-1703014200@kronoberg.vansterpartiet.se
SUMMARY:Distriktsstyrelsemöte 19/12
DESCRIPTION:Distriktsstyrelsen har möte 19/12 kl. 17.30 \nVi ses i vår möteslokal på Vattentorget\, om ej annat anges.\nDigital medverkan är möjlig.\nVänligen anmäl deltagande till kronoberg@vansterpartiet.se. \nVälkommen!
URL:https://kronoberg.vansterpartiet.se/event/distriktsstyrelsemote-19-12/
END:VEVENT
BEGIN:VEVENT
DTSTART;TZID=Europe/Stockholm:20240114T130000
DTEND;TZID=Europe/Stockholm:20240114T160000
DTSTAMP:20260423T001402
CREATED:20231221T153131Z
LAST-MODIFIED:20231221T153635Z
UID:4125-1705237200-1705248000@kronoberg.vansterpartiet.se
SUMMARY:Studiecirkel nya partiprogrammet
DESCRIPTION:Inbjudan till studiecirkel – om nya partiprogrammet\n\n\n\n\n\n\n\nVälkommen till en studiecirkel om vårt nya partiprogram!\nNär? Söndagen 14 januari\, kl 13.00-16.00\nVar? Bäckgatan 14 i Växjö (V Växjös lokaler)\n\nRickard Hofstam\, Peo Karlsson och Frida Sandstedt från Växjös partiförening är mötesledare och ger en introduktion i vår politiska historia och programkommissionens programförslag.Därefter blir det samtal kring förslaget. Kanske till och med en motion? \nInga förkunskaper krävs\, men alla deltagare förväntas ha läst igenom programkommissionens förslag. \nVälkommen med din anmälan till kronoberg@vansterpartiet.se.Du som har anmält intresse står som anmäld\, om du inte meddelar annat. Om du inte kommer ihåg om du har anmält intresse\, så bara anmäl dig igen. \nVi bjuder på fika. \nI slutet av denna inledande träff\, beslutar vi hur vi går vidare med vår studiecirkel. \nHär kan du ladda ner förslaget: https://www.vansterpartiet.se/kongress2024/forslag-till-partiprogram/\n\n\n\n\n\n\n\n\n\n\n\n\n\n\n\n\n\n\n\n\n\n\n\n\n\n\n\n\n\n\n\n\n\n\n\n\n\n\n\n\n\n\n\n\n\n\n\n\n\n\n\n\n\n\nStudiecirkel\, upptakt:Söndag 14 januariBäckgatan 14\, VäxjöFika ingårMötesledare: Rickard HofstamPeo KarlssonFrida SandstedtFrågor/anmälan skickas till:kronoberg@vansterpariet.se
URL:https://kronoberg.vansterpartiet.se/event/studiecirkel-nya-partiprogrammet/
END:VEVENT
BEGIN:VEVENT
DTSTART;TZID=Europe/Stockholm:20240118T173000
DTEND;TZID=Europe/Stockholm:20240118T193000
DTSTAMP:20260423T001402
CREATED:20240102T154427Z
LAST-MODIFIED:20240102T154427Z
UID:4133-1705599000-1705606200@kronoberg.vansterpartiet.se
SUMMARY:DS-möte om EUP-valplattformen
DESCRIPTION:Distriktsstyrelsen har möte och diskuterar EUP-valplattformen samt förbereder inför distriktsårskonferensen. \nAnmäl deltagande till kronoberg@vansterpartiet.se. Om du inte kan vara med\, men har funderingar och idéer kan du skicka även dem till samma mejladress. \nVi håller till i vår möteslokal på Vattentorget. \nVälkommen!
URL:https://kronoberg.vansterpartiet.se/event/ds-mote-om-eup-valplattformen/
END:VEVENT
BEGIN:VEVENT
DTSTART;TZID=Europe/Stockholm:20240207T180000
DTEND;TZID=Europe/Stockholm:20240207T190000
DTSTAMP:20260423T001402
CREATED:20240201T112434Z
LAST-MODIFIED:20240201T112434Z
UID:4152-1707328800-1707332400@kronoberg.vansterpartiet.se
SUMMARY:Föreläsning: Vinstjakten som försämrar vården
DESCRIPTION:VINSTJAKTEN SOM FÖRSÄMRAR VÅRDEN\n”Vi rör oss bort från den svenska välfärdsmodellen\, i riktning mot en tudelad välfärd. Det innebär att vi slår sönder det gemensamma sjukvårdssystemet”\, skriver John Lapidus i sin nya bok Den sjuka debatten (Verbal\, 2023).\nJohn Lapidus har länge varit en av Sveriges skarpaste kritiker mot de gräddfiler och privatiseringar som försämrar vården och nu kommer han till Växjö för att förklara hur det hela hänger ihop utifrån sin nya bok ”Den sjuka debatten”.\nVad händer med vår gemensamma vård när vinstjakten och den privata vårdindustrin tar över allt mer? Vilka får stå tillbaka när vårdindustrin tränger sig före i vårdkön? Och framförallt – hur tar vi strid för en jämlik vård?\nAlla som är intresserade av hur det privata vårdkapitalet försämrar vården och hur vi kan vända utvecklingen tillsammans är välkomna till föreläsningen och den tillhörande frågestunden.\nDatum: Onsdag 7/2\nTid: kl 18:00\nPlats: Bäckgatan 14\, Växjö – Vänsterpartiet Växjös lokaler\nVarmt välkomna!
URL:https://kronoberg.vansterpartiet.se/event/forelasning-vinstjakten-som-forsamrar-varden/
LOCATION:Vänsterpartiet i Växjö\, Bäckgatan 14\, Växjö\, Sverige
END:VEVENT
BEGIN:VEVENT
DTSTART;TZID=Europe/Stockholm:20240208T090000
DTEND;TZID=Europe/Stockholm:20240208T120000
DTSTAMP:20260423T001402
CREATED:20231102T072202Z
LAST-MODIFIED:20231102T072202Z
UID:4022-1707382800-1707393600@kronoberg.vansterpartiet.se
SUMMARY:Regiongruppsmöte 8/2
DESCRIPTION:Våra regionpolitiker träffas för att diskutera en mer jämlik och jämställd vård\, bra och billig kollektivtrafik och andra aktuella frågor. Kontakta gruppledare Kerstin Wiréhn (kerstin.wirehn@kronoberg.se) om du vill delta.
URL:https://kronoberg.vansterpartiet.se/event/regiongruppsmote-8-2/
END:VEVENT
BEGIN:VEVENT
DTSTART;TZID=Europe/Stockholm:20240221T173000
DTEND;TZID=Europe/Stockholm:20240221T200000
DTSTAMP:20260423T001402
CREATED:20240129T184238Z
LAST-MODIFIED:20240129T184238Z
UID:4145-1708536600-1708545600@kronoberg.vansterpartiet.se
SUMMARY:Distriktsstyrelsemöte
DESCRIPTION:DISTRIKTSSTYRELSEMÖTE \nVi träffas i möteslokalen på Vattentorget. \nVälkommen! \nAnmäl deltagande till: kronoberg@vansterpartiet.se
URL:https://kronoberg.vansterpartiet.se/event/distriktsstyrelsemote-3/
END:VEVENT
BEGIN:VEVENT
DTSTART;TZID=Europe/Stockholm:20240225T093000
DTEND;TZID=Europe/Stockholm:20240225T160000
DTSTAMP:20260423T001402
CREATED:20240208T220225Z
LAST-MODIFIED:20240221T142509Z
UID:4163-1708853400-1708876800@kronoberg.vansterpartiet.se
SUMMARY:INSTÄLLT!!!    Välkommen till Vänsterpartiet
DESCRIPTION:Evenemanget är inställt. \nVälkommen till Vänsterpartiet
URL:https://kronoberg.vansterpartiet.se/event/valkommen-till-vansterpartiet/
END:VEVENT
BEGIN:VEVENT
DTSTART;TZID=Europe/Stockholm:20240308T180000
DTEND;TZID=Europe/Stockholm:20240308T200000
DTSTAMP:20260423T001402
CREATED:20240307T142817Z
LAST-MODIFIED:20240307T142817Z
UID:4193-1709920800-1709928000@kronoberg.vansterpartiet.se
SUMMARY:Internationella kvinnodagen
DESCRIPTION:Välkomna till en helkväll för att uppmärksamma internationella kvinnodagen tillsammans med Vänsterpartiet Växjö\, Ung Vänster och Vänsterstudenterna LNU.\nInternationella kvinnodagen är en dag som sedan början av 1900-talet använts som ett verktyg för att uppmärksamma kvinnors rättigheter. Efter tidigare framsteg för kvinnors rättigheter är nu jämställdheten på global tillbakagång.\nVälkommen att lyssna på ett panelsamtal med unga kvinnor från Växjö som samtalar om rättigheter\, jämställdhet\, feminism och livsvillkor.\nTraditionsenligt avslutas kvällen med musikquiz av Ung Vänster\, kluriga frågor och bra priser som alltid!\nFika och gott sällskap bjuds som alltid!\nBäckgatan 14\nVälkommen!\nVänsterpartiet Växjö och Braå-Rottne\nPresenteras i samarbete med Vänsterpartiet Lessebo\, Vänsterstudenterna LNU och Ung Vänster Kronoberg.
URL:https://kronoberg.vansterpartiet.se/event/internationella-kvinnodagen/
END:VEVENT
BEGIN:VEVENT
DTSTART;TZID=Europe/Stockholm:20240309T160000
DTEND;TZID=Europe/Stockholm:20240309T180000
DTSTAMP:20260423T001402
CREATED:20240305T114624Z
LAST-MODIFIED:20240305T120423Z
UID:4187-1710000000-1710007200@kronoberg.vansterpartiet.se
SUMMARY:Palestinsk kulturkväll
DESCRIPTION:Mångkulturella kvinnoföreningen tillsammans med NBV bjuder in till en palestinsk kultur-kväll.\nOBS! Tiden är ändrad till kl. 16.00. \nFölj länken: affich-3.pdf
URL:https://kronoberg.vansterpartiet.se/event/palestinsk-kulturkvall/
END:VEVENT
BEGIN:VEVENT
DTSTART;TZID=Europe/Stockholm:20240313T090000
DTEND;TZID=Europe/Stockholm:20240313T120000
DTSTAMP:20260423T001402
CREATED:20231102T072244Z
LAST-MODIFIED:20231102T072244Z
UID:4024-1710320400-1710331200@kronoberg.vansterpartiet.se
SUMMARY:Regiongruppsmöte 13/3
DESCRIPTION:Våra regionpolitiker träffas för att diskutera en mer jämlik och jämställd vård\, bra och billig kollektivtrafik och andra aktuella frågor. Kontakta gruppledare Kerstin Wiréhn (kerstin.wirehn@kronoberg.se) om du vill delta.
URL:https://kronoberg.vansterpartiet.se/event/regiongruppsmote-13-3/
END:VEVENT
END:VCALENDAR