BEGIN:VCALENDAR
VERSION:2.0
PRODID:-//Vänsterpartiet Kronoberg - ECPv6.15.17.1//NONSGML v1.0//EN
CALSCALE:GREGORIAN
METHOD:PUBLISH
X-WR-CALNAME:Vänsterpartiet Kronoberg
X-ORIGINAL-URL:https://kronoberg.vansterpartiet.se
X-WR-CALDESC:Händelser för Vänsterpartiet Kronoberg
REFRESH-INTERVAL;VALUE=DURATION:PT1H
X-Robots-Tag:noindex
X-PUBLISHED-TTL:PT1H
BEGIN:VTIMEZONE
TZID:Europe/Stockholm
BEGIN:DAYLIGHT
TZOFFSETFROM:+0100
TZOFFSETTO:+0200
TZNAME:CEST
DTSTART:20240331T010000
END:DAYLIGHT
BEGIN:STANDARD
TZOFFSETFROM:+0200
TZOFFSETTO:+0100
TZNAME:CET
DTSTART:20241027T010000
END:STANDARD
BEGIN:DAYLIGHT
TZOFFSETFROM:+0100
TZOFFSETTO:+0200
TZNAME:CEST
DTSTART:20250330T010000
END:DAYLIGHT
BEGIN:STANDARD
TZOFFSETFROM:+0200
TZOFFSETTO:+0100
TZNAME:CET
DTSTART:20251026T010000
END:STANDARD
BEGIN:DAYLIGHT
TZOFFSETFROM:+0100
TZOFFSETTO:+0200
TZNAME:CEST
DTSTART:20260329T010000
END:DAYLIGHT
BEGIN:STANDARD
TZOFFSETFROM:+0200
TZOFFSETTO:+0100
TZNAME:CET
DTSTART:20261025T010000
END:STANDARD
END:VTIMEZONE
BEGIN:VEVENT
DTSTART;TZID=Europe/Stockholm:20251117T180000
DTEND;TZID=Europe/Stockholm:20251117T200000
DTSTAMP:20260421T111514
CREATED:20251028T154642Z
LAST-MODIFIED:20251028T154642Z
UID:5007-1763402400-1763409600@kronoberg.vansterpartiet.se
SUMMARY:Kom och lyssna på Pierre Schori
DESCRIPTION:Ta tillbaka Sveriges alliansfrihet!  \nGe freden en chans! \nUSA är huvudkraften bakom Israels folkmord på palestinier. USA är Israels främsta stöttepelare och drivkraften bakom ett antal folkrättsstridiga krig i Mellanöstern och andra delar av världen\, bl.a. i Libyen och Irak. Det är krig som har smulat sönder fungerande stater och civilsamhällen. Krigen har dödat\, lemlästat och fördrivit miljontals människor. \nUSA är det ledande landet i Nato. Sveriges medlemskap i Nato är därmed ett stöd till USA:s krig. Kronoberg Fred och Alliansfrihet\, KFA\, säger: \n\nJa till alliansfrihet och fred! \nNej till USA-baser i Sverige – Bryt DCA-avtalet! \nSverige ut ur Nato!\n\n  \n  \nStoppa krigshetsen! \nSverige har tidigare haft gott internationellt anseende. Vi har varit ett land som verkat för fred och internationell solidaritet i enlighet med FN-stadgans principer. Grunden för vårt lands utrikes- och försvarspolitik var alliansfrihet i fred syftande till neutralitet i krig. \nEn princip var att inte exportera vapen till krigförande länder. Den politiken har abrupt övergivits. \nSverige har dragits in i en rustningsspiral som inte syftar till försvar av vårt land. Sverige och de övriga nordiska Natoländerna görs till USA:s norra front mot Ryssland. Som Natomedlem har Sverige blivit både ett uppmarschområde och en måltavla. \nÄven EU omvandlas till en militärallians. Nyligen accepterade alla 27 EU länder upprustningsplanen ”ReArm Europe” för nio biljoner (niotusen miljarder) kronor. Det görs i en tid av djup ekonomisk kris. \nSverige har slutit ett så kallat försvarssamarbets- avtal med USA\, Defence Cooperation Agreement\, DCA. Det ger USA rätt att upprätta 17 militärbaser med egna soldater och vapen spridda över Sveriges territorium. Det är baser där USA bestämmer! Sverige görs till måltavla i ett krig som varken det svenska folket eller vårt lands regering och riksdag kan besluta om. \nNatos strategi baseras på kärnvapen. I DCA-avtalet finns inga reservationer mot placering av kärnvapen på svenskt territorium. Sveriges statsminister och militärledning har tvärtom förklarat att kärnvapen kan komma att placeras i Sverige i krigstid. Men just i krigstid är det särskilt angeläget att Sverige inte har sådana vapen eller misstänks ha det. Det gör oss till mål för kärnvapenangrepp. \n\nEtt flygblad från KFA\, Kronoberg Fred & Alliansfrihet: Ola Korsfeldt\, 076-823 17 78\nGe ett bidrag till vårt arbete på Bg 792-8294 eller Swish 070-641 69 58\n\nKom och lyssna på Pierre Schori\, tidigare svensk vice utrikesminister och FN-ambassadör som talar om Nato\, DCA och Sverige! \nVäxjö bibliotek\, sal Galaxen\, måndag 17/11 kl 18.00 \nMötet arr. av IKFF\, Svenska Freds\, Kristna Freds och KFA tillsammans. \n 
URL:https://kronoberg.vansterpartiet.se/event/kom-och-lyssna-pa-pierre-schori/
END:VEVENT
END:VCALENDAR