BEGIN:VCALENDAR
VERSION:2.0
PRODID:-//Vänsterpartiet Kronoberg - ECPv6.15.17.1//NONSGML v1.0//EN
CALSCALE:GREGORIAN
METHOD:PUBLISH
X-WR-CALNAME:Vänsterpartiet Kronoberg
X-ORIGINAL-URL:https://kronoberg.vansterpartiet.se
X-WR-CALDESC:Händelser för Vänsterpartiet Kronoberg
REFRESH-INTERVAL;VALUE=DURATION:PT1H
X-Robots-Tag:noindex
X-PUBLISHED-TTL:PT1H
BEGIN:VTIMEZONE
TZID:Europe/Stockholm
BEGIN:DAYLIGHT
TZOFFSETFROM:+0100
TZOFFSETTO:+0200
TZNAME:CEST
DTSTART:20240331T010000
END:DAYLIGHT
BEGIN:STANDARD
TZOFFSETFROM:+0200
TZOFFSETTO:+0100
TZNAME:CET
DTSTART:20241027T010000
END:STANDARD
BEGIN:DAYLIGHT
TZOFFSETFROM:+0100
TZOFFSETTO:+0200
TZNAME:CEST
DTSTART:20250330T010000
END:DAYLIGHT
BEGIN:STANDARD
TZOFFSETFROM:+0200
TZOFFSETTO:+0100
TZNAME:CET
DTSTART:20251026T010000
END:STANDARD
BEGIN:DAYLIGHT
TZOFFSETFROM:+0100
TZOFFSETTO:+0200
TZNAME:CEST
DTSTART:20260329T010000
END:DAYLIGHT
BEGIN:STANDARD
TZOFFSETFROM:+0200
TZOFFSETTO:+0100
TZNAME:CET
DTSTART:20261025T010000
END:STANDARD
END:VTIMEZONE
BEGIN:VEVENT
DTSTART;TZID=Europe/Stockholm:20250928T100000
DTEND;TZID=Europe/Stockholm:20250928T150000
DTSTAMP:20260421T134635
CREATED:20250917T093744Z
LAST-MODIFIED:20250917T093744Z
UID:4982-1759053600-1759071600@kronoberg.vansterpartiet.se
SUMMARY:Strategidag
DESCRIPTION:Strategidag för medlemmar i Kronobergs län. \nFika från 9.30. \nVälkommen med din anmälan senast 25/9 till: kronoberg@vansterpartiet.se
URL:https://kronoberg.vansterpartiet.se/event/strategidag/
LOCATION:Vänsterpartiet Kronoberg\, Vattentorget 1\, plan 2\, Växjö
END:VEVENT
END:VCALENDAR