BEGIN:VCALENDAR
VERSION:2.0
PRODID:-//Vänsterpartiet Kronoberg - ECPv6.15.17.1//NONSGML v1.0//EN
CALSCALE:GREGORIAN
METHOD:PUBLISH
X-ORIGINAL-URL:https://kronoberg.vansterpartiet.se
X-WR-CALDESC:Händelser för Vänsterpartiet Kronoberg
REFRESH-INTERVAL;VALUE=DURATION:PT1H
X-Robots-Tag:noindex
X-PUBLISHED-TTL:PT1H
BEGIN:VTIMEZONE
TZID:Europe/Stockholm
BEGIN:DAYLIGHT
TZOFFSETFROM:+0100
TZOFFSETTO:+0200
TZNAME:CEST
DTSTART:20240331T010000
END:DAYLIGHT
BEGIN:STANDARD
TZOFFSETFROM:+0200
TZOFFSETTO:+0100
TZNAME:CET
DTSTART:20241027T010000
END:STANDARD
BEGIN:DAYLIGHT
TZOFFSETFROM:+0100
TZOFFSETTO:+0200
TZNAME:CEST
DTSTART:20250330T010000
END:DAYLIGHT
BEGIN:STANDARD
TZOFFSETFROM:+0200
TZOFFSETTO:+0100
TZNAME:CET
DTSTART:20251026T010000
END:STANDARD
BEGIN:DAYLIGHT
TZOFFSETFROM:+0100
TZOFFSETTO:+0200
TZNAME:CEST
DTSTART:20260329T010000
END:DAYLIGHT
BEGIN:STANDARD
TZOFFSETFROM:+0200
TZOFFSETTO:+0100
TZNAME:CET
DTSTART:20261025T010000
END:STANDARD
END:VTIMEZONE
BEGIN:VEVENT
DTSTART;TZID=Europe/Stockholm:20250515T170000
DTEND;TZID=Europe/Stockholm:20250515T180000
DTSTAMP:20260421T185030
CREATED:20250508T145511Z
LAST-MODIFIED:20250508T145511Z
UID:4889-1747328400-1747332000@kronoberg.vansterpartiet.se
SUMMARY:AL NAKBA - Manifestation för Gaza
DESCRIPTION:Facebooklänk till evenemanget
URL:https://kronoberg.vansterpartiet.se/event/al-nakba-manifestation-for-gaza/
LOCATION:Speakers Corner\, Storgatan 20-24\, Växjö
END:VEVENT
BEGIN:VEVENT
DTSTART;TZID=Europe/Stockholm:20250515T173000
DTEND;TZID=Europe/Stockholm:20250515T200000
DTSTAMP:20260421T185030
CREATED:20250414T134241Z
LAST-MODIFIED:20250414T134241Z
UID:4851-1747330200-1747339200@kronoberg.vansterpartiet.se
SUMMARY:Distriktsstyrelsemöte
DESCRIPTION:DISTRIKTSSTYRELSEMÖTE \nVi träffas i möteslokalen på Vattentorget. \nVälkommen! \nAnmäl deltagande till: kronoberg@vansterpartiet.se
URL:https://kronoberg.vansterpartiet.se/event/distriktsstyrelsemote-15/
LOCATION:Vänsterpartiet Kronoberg\, Vattentorget 1\, plan 2\, Växjö
END:VEVENT
END:VCALENDAR