BEGIN:VCALENDAR
VERSION:2.0
PRODID:-//Vänsterpartiet Kronoberg - ECPv6.15.17.1//NONSGML v1.0//EN
CALSCALE:GREGORIAN
METHOD:PUBLISH
X-WR-CALNAME:Vänsterpartiet Kronoberg
X-ORIGINAL-URL:https://kronoberg.vansterpartiet.se
X-WR-CALDESC:Händelser för Vänsterpartiet Kronoberg
REFRESH-INTERVAL;VALUE=DURATION:PT1H
X-Robots-Tag:noindex
X-PUBLISHED-TTL:PT1H
BEGIN:VTIMEZONE
TZID:Europe/Stockholm
BEGIN:DAYLIGHT
TZOFFSETFROM:+0100
TZOFFSETTO:+0200
TZNAME:CEST
DTSTART:20240331T010000
END:DAYLIGHT
BEGIN:STANDARD
TZOFFSETFROM:+0200
TZOFFSETTO:+0100
TZNAME:CET
DTSTART:20241027T010000
END:STANDARD
BEGIN:DAYLIGHT
TZOFFSETFROM:+0100
TZOFFSETTO:+0200
TZNAME:CEST
DTSTART:20250330T010000
END:DAYLIGHT
BEGIN:STANDARD
TZOFFSETFROM:+0200
TZOFFSETTO:+0100
TZNAME:CET
DTSTART:20251026T010000
END:STANDARD
BEGIN:DAYLIGHT
TZOFFSETFROM:+0100
TZOFFSETTO:+0200
TZNAME:CEST
DTSTART:20260329T010000
END:DAYLIGHT
BEGIN:STANDARD
TZOFFSETFROM:+0200
TZOFFSETTO:+0100
TZNAME:CET
DTSTART:20261025T010000
END:STANDARD
END:VTIMEZONE
BEGIN:VEVENT
DTSTART;TZID=Europe/Stockholm:20250514T183000
DTEND;TZID=Europe/Stockholm:20250514T210000
DTSTAMP:20260421T184141
CREATED:20250508T150438Z
LAST-MODIFIED:20250508T150438Z
UID:4891-1747247400-1747256400@kronoberg.vansterpartiet.se
SUMMARY:Nooshis Sverigeturné
DESCRIPTION:Facebooklänk till evenemanget \nOBS! Anmälan krävs: OSA senast 12 maj via länken: https://forms.office.com/e/Nm4w5hpW9q
URL:https://kronoberg.vansterpartiet.se/event/nooshis-sverigeturne/
LOCATION:Elite Stadshotellet\, Växjö\, Kungsgatan 6\, Växj
END:VEVENT
END:VCALENDAR