BEGIN:VCALENDAR
VERSION:2.0
PRODID:-//Vänsterpartiet Kronoberg - ECPv6.15.17.1//NONSGML v1.0//EN
CALSCALE:GREGORIAN
METHOD:PUBLISH
X-ORIGINAL-URL:https://kronoberg.vansterpartiet.se
X-WR-CALDESC:Händelser för Vänsterpartiet Kronoberg
REFRESH-INTERVAL;VALUE=DURATION:PT1H
X-Robots-Tag:noindex
X-PUBLISHED-TTL:PT1H
BEGIN:VTIMEZONE
TZID:Europe/Stockholm
BEGIN:DAYLIGHT
TZOFFSETFROM:+0100
TZOFFSETTO:+0200
TZNAME:CEST
DTSTART:20230326T010000
END:DAYLIGHT
BEGIN:STANDARD
TZOFFSETFROM:+0200
TZOFFSETTO:+0100
TZNAME:CET
DTSTART:20231029T010000
END:STANDARD
BEGIN:DAYLIGHT
TZOFFSETFROM:+0100
TZOFFSETTO:+0200
TZNAME:CEST
DTSTART:20240331T010000
END:DAYLIGHT
BEGIN:STANDARD
TZOFFSETFROM:+0200
TZOFFSETTO:+0100
TZNAME:CET
DTSTART:20241027T010000
END:STANDARD
BEGIN:DAYLIGHT
TZOFFSETFROM:+0100
TZOFFSETTO:+0200
TZNAME:CEST
DTSTART:20250330T010000
END:DAYLIGHT
BEGIN:STANDARD
TZOFFSETFROM:+0200
TZOFFSETTO:+0100
TZNAME:CET
DTSTART:20251026T010000
END:STANDARD
END:VTIMEZONE
BEGIN:VEVENT
DTSTART;VALUE=DATE:20240609
DTEND;VALUE=DATE:20240610
DTSTAMP:20260422T080235
CREATED:20240323T173055Z
LAST-MODIFIED:20240323T173055Z
UID:4228-1717891200-1717977599@kronoberg.vansterpartiet.se
SUMMARY:EUP-val
DESCRIPTION:Val till Europa-parlamentet\nLänk:\nValpresentation \n  \n 
URL:https://kronoberg.vansterpartiet.se/event/eup-val/
END:VEVENT
BEGIN:VEVENT
DTSTART;TZID=Europe/Stockholm:20240609T190000
DTEND;TZID=Europe/Stockholm:20240609T233000
DTSTAMP:20260422T080235
CREATED:20240521T052118Z
LAST-MODIFIED:20240603T202408Z
UID:4316-1717959600-1717975800@kronoberg.vansterpartiet.se
SUMMARY:Valvaka
DESCRIPTION:Välkommen på valvaka!\n\n\n\n\n\n\n\nÅrets nagelbitare är många. En riktigt höjdare kommer på söndag.\nVänsterpartiet Kronoberg och partiföreningarna i Växjö bjuder in till valvaka. \nPlats: Villa & Trädgård de Luxe i Växjö\nTid: söndag 9 juni kl. 19.00 till sent \nStorbild och gott häng.\nDet går att beställa mat och dryck på plats.\nPizzaugnarna är igång och baren är öppen. \nIngen föranmälan behövs. \nVälkommen!
URL:https://kronoberg.vansterpartiet.se/event/valvaka/
END:VEVENT
END:VCALENDAR