BEGIN:VCALENDAR
VERSION:2.0
PRODID:-//Vänsterpartiet Kronoberg - ECPv6.15.17.1//NONSGML v1.0//EN
CALSCALE:GREGORIAN
METHOD:PUBLISH
X-WR-CALNAME:Vänsterpartiet Kronoberg
X-ORIGINAL-URL:https://kronoberg.vansterpartiet.se
X-WR-CALDESC:Händelser för Vänsterpartiet Kronoberg
REFRESH-INTERVAL;VALUE=DURATION:PT1H
X-Robots-Tag:noindex
X-PUBLISHED-TTL:PT1H
BEGIN:VTIMEZONE
TZID:Europe/Stockholm
BEGIN:DAYLIGHT
TZOFFSETFROM:+0100
TZOFFSETTO:+0200
TZNAME:CEST
DTSTART:20230326T010000
END:DAYLIGHT
BEGIN:STANDARD
TZOFFSETFROM:+0200
TZOFFSETTO:+0100
TZNAME:CET
DTSTART:20231029T010000
END:STANDARD
BEGIN:DAYLIGHT
TZOFFSETFROM:+0100
TZOFFSETTO:+0200
TZNAME:CEST
DTSTART:20240331T010000
END:DAYLIGHT
BEGIN:STANDARD
TZOFFSETFROM:+0200
TZOFFSETTO:+0100
TZNAME:CET
DTSTART:20241027T010000
END:STANDARD
BEGIN:DAYLIGHT
TZOFFSETFROM:+0100
TZOFFSETTO:+0200
TZNAME:CEST
DTSTART:20250330T010000
END:DAYLIGHT
BEGIN:STANDARD
TZOFFSETFROM:+0200
TZOFFSETTO:+0100
TZNAME:CET
DTSTART:20251026T010000
END:STANDARD
END:VTIMEZONE
BEGIN:VEVENT
DTSTART;TZID=Europe/Stockholm:20240525T090000
DTEND;TZID=Europe/Stockholm:20240525T180000
DTSTAMP:20260422T090947
CREATED:20240520T073302Z
LAST-MODIFIED:20240520T101131Z
UID:4312-1716627600-1716660000@kronoberg.vansterpartiet.se
SUMMARY:Markaryds marknad
DESCRIPTION:Det är marknad i Markaryd runt Kungsgatan. Den håller på mellan kl. 9.00 och 18.00\, och Vänsterpartiet Markaryd finns på plats åtminstone mellan kl. 11.00 och 16.00. \nVälkommen att titta förbi! \nhttps://www.markarydsif.se/kalender/?ID=466628&AID=21650990
URL:https://kronoberg.vansterpartiet.se/event/markaryds-marknad/
END:VEVENT
BEGIN:VEVENT
DTSTART;TZID=Europe/Stockholm:20240525T100000
DTEND;TZID=Europe/Stockholm:20240525T150000
DTSTAMP:20260422T090947
CREATED:20240425T122729Z
LAST-MODIFIED:20240425T122729Z
UID:4258-1716631200-1716649200@kronoberg.vansterpartiet.se
SUMMARY:Familjedag i Alvesta
DESCRIPTION:Vänsterpartiet i Alvesta deltar vid Familjedagen i Alvesta. \nLänk till fb-book:  Familjedag | Facebook
URL:https://kronoberg.vansterpartiet.se/event/familjedag-i-alvesta/
END:VEVENT
END:VCALENDAR