BEGIN:VCALENDAR
VERSION:2.0
PRODID:-//Vänsterpartiet Kronoberg - ECPv6.15.17.1//NONSGML v1.0//EN
CALSCALE:GREGORIAN
METHOD:PUBLISH
X-ORIGINAL-URL:https://kronoberg.vansterpartiet.se
X-WR-CALDESC:Händelser för Vänsterpartiet Kronoberg
REFRESH-INTERVAL;VALUE=DURATION:PT1H
X-Robots-Tag:noindex
X-PUBLISHED-TTL:PT1H
BEGIN:VTIMEZONE
TZID:Europe/Stockholm
BEGIN:DAYLIGHT
TZOFFSETFROM:+0100
TZOFFSETTO:+0200
TZNAME:CEST
DTSTART:20230326T010000
END:DAYLIGHT
BEGIN:STANDARD
TZOFFSETFROM:+0200
TZOFFSETTO:+0100
TZNAME:CET
DTSTART:20231029T010000
END:STANDARD
BEGIN:DAYLIGHT
TZOFFSETFROM:+0100
TZOFFSETTO:+0200
TZNAME:CEST
DTSTART:20240331T010000
END:DAYLIGHT
BEGIN:STANDARD
TZOFFSETFROM:+0200
TZOFFSETTO:+0100
TZNAME:CET
DTSTART:20241027T010000
END:STANDARD
BEGIN:DAYLIGHT
TZOFFSETFROM:+0100
TZOFFSETTO:+0200
TZNAME:CEST
DTSTART:20250330T010000
END:DAYLIGHT
BEGIN:STANDARD
TZOFFSETFROM:+0200
TZOFFSETTO:+0100
TZNAME:CET
DTSTART:20251026T010000
END:STANDARD
END:VTIMEZONE
BEGIN:VEVENT
DTSTART;TZID=Europe/Stockholm:20240422T173000
DTEND;TZID=Europe/Stockholm:20240422T200000
DTSTAMP:20260422T125744
CREATED:20240328T101343Z
LAST-MODIFIED:20240328T101423Z
UID:4240-1713807000-1713816000@kronoberg.vansterpartiet.se
SUMMARY:Träffa våra kongressombud
DESCRIPTION:Vänsterpartiet Kronoberg\n\n\n\n\n\n\n\n\n\n\n\n\n\n\n\n\n\n\n\n\n\n\n\n\n\n\n\n\n\n\n\n\n\n\n\n\n\n\n\n\n\n\n\n\n\n\n\nKom och träffa våra kongressombud!\n\n\n\n\n\n\n\nKom och träffa Kronobergs kongressombud måndag 22 april. Berätta vad du tycker är viktigt\, ställ frågor och hör vad våra kongressombud har att säga.Vi håller till på Bäckgatan 14 i Växjö – eller titta på vår livesändning. \n17.30 slås dörrarna upp. Fika och mingel.\n18.00 börjar träffen\, som alltså livesänds och även spelas in. \nMedlemmar och sympatisörer hälsas välkomna!\n\n\n\n\n\n\n\n\n\n\n\n\n\n\n\n\n\n\n\n\n\n\n\n\n\n\n\n\n\n\n\n\n\n\n\n\n\n\nValkrets 1\nBraås-Rottne och Växjö\n\nValkrets 2\n Alvesta\, Lessebo\, Ljungby\, Markaryd\, Tingsryd\, Uppvidinge och Älmhult\n\n\n\n\n\n\n\n\n\n\n\n\n\n\n\n\n\n\n\n\n\n\n\n\n\n\n\n\n\n\nMaria Garmer\nBraås-RottneOrdinarie valkrets 1\n\n\n\n\n\n\n\n\n\n\n\n\n\n\n\nBjörn Kleinhenz\nBraås-RottneOrdinarie valkrets 1\n\n\n\n\n\n\n\n\n\n\n\n\n\n\n\nFrida Sandstedt\nBraås-RottneErsättare valkrets 1\n\n\n\n\n\n\n\n\n\n\n\n\n\n\n\n\n\n\n\n\n\n\n\n\n\n\n\n\n\nLinnéa Naess\nAlvestaOrdinarie valkrets 2\n\n\n\n\n\n\n\n\n\n\n\n\n\n\n\nCatharina Nord\nLjungbyOrdinarie valkrets 2\n\n\n\n\n\n\n\n\n\n\n\n\n\n\n\n\nKongress 2024
URL:https://kronoberg.vansterpartiet.se/event/traffa-vara-kongressombud/
END:VEVENT
END:VCALENDAR