BEGIN:VCALENDAR
VERSION:2.0
PRODID:-//Vänsterpartiet Kronoberg - ECPv6.15.17.1//NONSGML v1.0//EN
CALSCALE:GREGORIAN
METHOD:PUBLISH
X-WR-CALNAME:Vänsterpartiet Kronoberg
X-ORIGINAL-URL:https://kronoberg.vansterpartiet.se
X-WR-CALDESC:Händelser för Vänsterpartiet Kronoberg
REFRESH-INTERVAL;VALUE=DURATION:PT1H
X-Robots-Tag:noindex
X-PUBLISHED-TTL:PT1H
BEGIN:VTIMEZONE
TZID:Europe/Stockholm
BEGIN:DAYLIGHT
TZOFFSETFROM:+0100
TZOFFSETTO:+0200
TZNAME:CEST
DTSTART:20220327T010000
END:DAYLIGHT
BEGIN:STANDARD
TZOFFSETFROM:+0200
TZOFFSETTO:+0100
TZNAME:CET
DTSTART:20221030T010000
END:STANDARD
BEGIN:DAYLIGHT
TZOFFSETFROM:+0100
TZOFFSETTO:+0200
TZNAME:CEST
DTSTART:20230326T010000
END:DAYLIGHT
BEGIN:STANDARD
TZOFFSETFROM:+0200
TZOFFSETTO:+0100
TZNAME:CET
DTSTART:20231029T010000
END:STANDARD
BEGIN:DAYLIGHT
TZOFFSETFROM:+0100
TZOFFSETTO:+0200
TZNAME:CEST
DTSTART:20240331T010000
END:DAYLIGHT
BEGIN:STANDARD
TZOFFSETFROM:+0200
TZOFFSETTO:+0100
TZNAME:CET
DTSTART:20241027T010000
END:STANDARD
END:VTIMEZONE
BEGIN:VEVENT
DTSTART;TZID=Europe/Stockholm:20230819T113000
DTEND;TZID=Europe/Stockholm:20230819T113000
DTSTAMP:20260422T201935
CREATED:20230817T151039Z
LAST-MODIFIED:20230817T151039Z
UID:3785-1692444600-1692444600@kronoberg.vansterpartiet.se
SUMMARY:Externt: Protest mot avverkning i Fyllerydskogen kl. 11.30-12.30
DESCRIPTION:
URL:https://kronoberg.vansterpartiet.se/event/externt-protest-mot-avverkning-i-fyllerydskogen-kl-11-30-12-30/
END:VEVENT
END:VCALENDAR